BEGIN:VCALENDAR
VERSION:2.0
PRODID:-//jEvents 2.0 for Joomla//EN
CALSCALE:GREGORIAN
METHOD:PUBLISH
BEGIN:VTIMEZONE
TZID:Europe/Vienna
BEGIN:STANDARD
DTSTART:20231029T020000
RDATE:20240331T030000
TZOFFSETFROM:+0200
TZOFFSETTO:+0100
TZNAME:Europe/Vienna CET
END:STANDARD
BEGIN:STANDARD
DTSTART:20241027T020000
RDATE:20250330T030000
TZOFFSETFROM:+0200
TZOFFSETTO:+0100
TZNAME:Europe/Vienna CET
END:STANDARD
BEGIN:STANDARD
DTSTART:20251026T020000
RDATE:20260329T030000
TZOFFSETFROM:+0200
TZOFFSETTO:+0100
TZNAME:Europe/Vienna CET
END:STANDARD
BEGIN:STANDARD
DTSTART:20261025T020000
RDATE:20270328T030000
TZOFFSETFROM:+0200
TZOFFSETTO:+0100
TZNAME:Europe/Vienna CET
END:STANDARD
BEGIN:STANDARD
DTSTART:20271031T020000
RDATE:20280326T030000
TZOFFSETFROM:+0200
TZOFFSETTO:+0100
TZNAME:Europe/Vienna CET
END:STANDARD
BEGIN:STANDARD
DTSTART:20281029T020000
RDATE:20290325T030000
TZOFFSETFROM:+0200
TZOFFSETTO:+0100
TZNAME:Europe/Vienna CET
END:STANDARD
BEGIN:STANDARD
DTSTART:20291028T020000
RDATE:20300331T030000
TZOFFSETFROM:+0200
TZOFFSETTO:+0100
TZNAME:Europe/Vienna CET
END:STANDARD
BEGIN:STANDARD
DTSTART:20301027T020000
RDATE:20310330T030000
TZOFFSETFROM:+0200
TZOFFSETTO:+0100
TZNAME:Europe/Vienna CET
END:STANDARD
BEGIN:STANDARD
DTSTART:20311026T020000
RDATE:20320328T030000
TZOFFSETFROM:+0200
TZOFFSETTO:+0100
TZNAME:Europe/Vienna CET
END:STANDARD
BEGIN:STANDARD
DTSTART:20321031T020000
RDATE:20330327T030000
TZOFFSETFROM:+0200
TZOFFSETTO:+0100
TZNAME:Europe/Vienna CET
END:STANDARD
BEGIN:STANDARD
DTSTART:20331030T020000
RDATE:20340326T030000
TZOFFSETFROM:+0200
TZOFFSETTO:+0100
TZNAME:Europe/Vienna CET
END:STANDARD
BEGIN:STANDARD
DTSTART:20341029T020000
RDATE:20350325T030000
TZOFFSETFROM:+0200
TZOFFSETTO:+0100
TZNAME:Europe/Vienna CET
END:STANDARD
BEGIN:DAYLIGHT
DTSTART:20230620T173000
RDATE:20231029T020000
TZOFFSETFROM:+0100
TZOFFSETTO:+0200
TZNAME:Europe/Vienna CEST
END:DAYLIGHT
BEGIN:DAYLIGHT
DTSTART:20240331T030000
RDATE:20241027T020000
TZOFFSETFROM:+0100
TZOFFSETTO:+0200
TZNAME:Europe/Vienna CEST
END:DAYLIGHT
BEGIN:DAYLIGHT
DTSTART:20250330T030000
RDATE:20251026T020000
TZOFFSETFROM:+0100
TZOFFSETTO:+0200
TZNAME:Europe/Vienna CEST
END:DAYLIGHT
BEGIN:DAYLIGHT
DTSTART:20260329T030000
RDATE:20261025T020000
TZOFFSETFROM:+0100
TZOFFSETTO:+0200
TZNAME:Europe/Vienna CEST
END:DAYLIGHT
BEGIN:DAYLIGHT
DTSTART:20270328T030000
RDATE:20271031T020000
TZOFFSETFROM:+0100
TZOFFSETTO:+0200
TZNAME:Europe/Vienna CEST
END:DAYLIGHT
BEGIN:DAYLIGHT
DTSTART:20280326T030000
RDATE:20281029T020000
TZOFFSETFROM:+0100
TZOFFSETTO:+0200
TZNAME:Europe/Vienna CEST
END:DAYLIGHT
BEGIN:DAYLIGHT
DTSTART:20290325T030000
RDATE:20291028T020000
TZOFFSETFROM:+0100
TZOFFSETTO:+0200
TZNAME:Europe/Vienna CEST
END:DAYLIGHT
BEGIN:DAYLIGHT
DTSTART:20300331T030000
RDATE:20301027T020000
TZOFFSETFROM:+0100
TZOFFSETTO:+0200
TZNAME:Europe/Vienna CEST
END:DAYLIGHT
BEGIN:DAYLIGHT
DTSTART:20310330T030000
RDATE:20311026T020000
TZOFFSETFROM:+0100
TZOFFSETTO:+0200
TZNAME:Europe/Vienna CEST
END:DAYLIGHT
BEGIN:DAYLIGHT
DTSTART:20320328T030000
RDATE:20321031T020000
TZOFFSETFROM:+0100
TZOFFSETTO:+0200
TZNAME:Europe/Vienna CEST
END:DAYLIGHT
BEGIN:DAYLIGHT
DTSTART:20330327T030000
RDATE:20331030T020000
TZOFFSETFROM:+0100
TZOFFSETTO:+0200
TZNAME:Europe/Vienna CEST
END:DAYLIGHT
BEGIN:DAYLIGHT
DTSTART:20340326T030000
RDATE:20341029T020000
TZOFFSETFROM:+0100
TZOFFSETTO:+0200
TZNAME:Europe/Vienna CEST
END:DAYLIGHT
END:VTIMEZONE
BEGIN:VEVENT
UID:
CATEGORIES:sonstige Veranstaltung
SUMMARY:EURAXESS Austria networking event: Careers, Quiz and Cheers
LOCATION:Ebendorferstraße 7, 1010 Vienna
DESCRIPTION;ENCODING=QUOTED-PRINTABLE:<div class="ecl">	<p>		You are an <strong>international student/(young) res
 earcher</strong> and want to know more about <a href="https://www.euraxess.
 at/">EURAXESS</a> and how it is helpful for (young) researchers? And do you
  also want to connect with other colleagues, strengthen relationships and <
 strong>have fun together</strong>? Then join our networking event!</p>	<p>	
 	We would like to give you an overview of the European initiative EURAXESS 
 with the focus on <strong>career development tools and services. </strong><
 /p>	<p>		After the short presentation, we would like to invite you to join 
 us for a <strong>pub quiz</strong>. You will play in a team and compete aga
 inst other teams in a series of quiz rounds.</p>	<p>		This is your opportun
 ity to meet new people and enjoy a nice evening with participants of all ba
 ckgrounds!</p></div><p>	&nbsp;</p><div class="ecl-u-mb-2xl">	<h2 class="ecl
 -u-type-heading-2 ecl-u-mt-none ecl-u-mb-l" id="details">		Details</h2>	<dl
  class="ecl-description-list ecl-description-list--horizontal">		<dt class=
 "ecl-description-list__term">			Date &amp; Duration</dt>		<dd class="ecl-de
 scription-list__definition">			<div>				<time datetime="2024-06-20T17:30:00
 +02:00">					Thu, 20 Jun 2024 (Europe/Vienna), 5:30</time>				-				<time da
 tetime="2024-06-20T22:00:00+02:00">					10pm</time>			</div>		</dd>		<dt cl
 ass="ecl-description-list__term">			Location/Venue</dt>		<dd class="ecl-des
 cription-list__definition">			<div>				<span>Ebendorferstra&szlig;e 7, 1010
  Wien, Austria </span></div>		</dd>	</dl></div><div class="ecl-u-mb-2xl">	<
 h2 class="ecl-u-type-heading-2 ecl-u-mt-none ecl-u-mb-l" id="agenda">		Agen
 da</h2>	<div class="ecl">		<p>			<strong>Programme</strong></p>		<p>			<str
 ong>5:30 pm | Registration&nbsp;&nbsp;</strong> &nbsp;&nbsp;&nbsp;&nbsp;<br
  />			OeAD, Ebendorferstra&szlig;e 7, 1010 Vienna</p>		<p>			<strong>6 pm |
  EURAXESS Career development tools for researchers</strong><br />			Verena 
 Katscher, EURAXESS Austria/OeAD</p>		<p>			<strong>6:30 pm | Getting to kno
 w activities: Find your quiz buddies&nbsp;&nbsp; &nbsp;&nbsp;&nbsp; </stron
 g></p>		<p>			<strong>7 pm | Pub quiz at Cafe Benno</strong><br />			Aser S
 tra&szlig;e 67, 1080 Vienna</p>		<p>			We will walk together from the OeAD 
 to the restaurant, where we will test our knwoledge. The first beer or soft
  drink is on us.</p>		<p>			<strong>10 pm | Closing and announcement of the
  winners</strong></p>	</div></div><p>	&nbsp;</p><p>	<span style="font-size:
 11.0pt;color:windowtext"><a href="https://www.euraxess.at/austria/events/eu
 raxess-austria-networking-event-careers-quiz-and-cheers">https://www.euraxe
 ss.at/austria/events/euraxess-austria-networking-event-careers-quiz-and-che
 ers</a></span></p>
CONTACT:OeAD
DTSTAMP:20260422T075755Z
DTSTART;TZID=Europe/Vienna:20240620T173000
DTEND;TZID=Europe/Vienna:20240620T220000
SEQUENCE:1
TRANSP:OPAQUE
END:VEVENT
END:VCALENDAR