BEGIN:VCALENDAR
VERSION:2.0
PRODID:-//jEvents 2.0 for Joomla//EN
CALSCALE:GREGORIAN
METHOD:PUBLISH
BEGIN:VTIMEZONE
TZID:Europe/Vienna
BEGIN:STANDARD
DTSTART:20230307T130000
RDATE:20230326T030000
TZOFFSETFROM:+0200
TZOFFSETTO:+0100
TZNAME:Europe/Vienna CET
END:STANDARD
BEGIN:STANDARD
DTSTART:20231029T020000
RDATE:20240331T030000
TZOFFSETFROM:+0200
TZOFFSETTO:+0100
TZNAME:Europe/Vienna CET
END:STANDARD
BEGIN:STANDARD
DTSTART:20241027T020000
RDATE:20250330T030000
TZOFFSETFROM:+0200
TZOFFSETTO:+0100
TZNAME:Europe/Vienna CET
END:STANDARD
BEGIN:STANDARD
DTSTART:20251026T020000
RDATE:20260329T030000
TZOFFSETFROM:+0200
TZOFFSETTO:+0100
TZNAME:Europe/Vienna CET
END:STANDARD
BEGIN:STANDARD
DTSTART:20261025T020000
RDATE:20270328T030000
TZOFFSETFROM:+0200
TZOFFSETTO:+0100
TZNAME:Europe/Vienna CET
END:STANDARD
BEGIN:STANDARD
DTSTART:20271031T020000
RDATE:20280326T030000
TZOFFSETFROM:+0200
TZOFFSETTO:+0100
TZNAME:Europe/Vienna CET
END:STANDARD
BEGIN:STANDARD
DTSTART:20281029T020000
RDATE:20290325T030000
TZOFFSETFROM:+0200
TZOFFSETTO:+0100
TZNAME:Europe/Vienna CET
END:STANDARD
BEGIN:STANDARD
DTSTART:20291028T020000
RDATE:20300331T030000
TZOFFSETFROM:+0200
TZOFFSETTO:+0100
TZNAME:Europe/Vienna CET
END:STANDARD
BEGIN:STANDARD
DTSTART:20301027T020000
RDATE:20310330T030000
TZOFFSETFROM:+0200
TZOFFSETTO:+0100
TZNAME:Europe/Vienna CET
END:STANDARD
BEGIN:STANDARD
DTSTART:20311026T020000
RDATE:20320328T030000
TZOFFSETFROM:+0200
TZOFFSETTO:+0100
TZNAME:Europe/Vienna CET
END:STANDARD
BEGIN:STANDARD
DTSTART:20321031T020000
RDATE:20330327T030000
TZOFFSETFROM:+0200
TZOFFSETTO:+0100
TZNAME:Europe/Vienna CET
END:STANDARD
BEGIN:STANDARD
DTSTART:20331030T020000
RDATE:20340326T030000
TZOFFSETFROM:+0200
TZOFFSETTO:+0100
TZNAME:Europe/Vienna CET
END:STANDARD
BEGIN:STANDARD
DTSTART:20341029T020000
RDATE:20350325T030000
TZOFFSETFROM:+0200
TZOFFSETTO:+0100
TZNAME:Europe/Vienna CET
END:STANDARD
BEGIN:DAYLIGHT
DTSTART:20230326T030000
RDATE:20231029T020000
TZOFFSETFROM:+0100
TZOFFSETTO:+0200
TZNAME:Europe/Vienna CEST
END:DAYLIGHT
BEGIN:DAYLIGHT
DTSTART:20240331T030000
RDATE:20241027T020000
TZOFFSETFROM:+0100
TZOFFSETTO:+0200
TZNAME:Europe/Vienna CEST
END:DAYLIGHT
BEGIN:DAYLIGHT
DTSTART:20250330T030000
RDATE:20251026T020000
TZOFFSETFROM:+0100
TZOFFSETTO:+0200
TZNAME:Europe/Vienna CEST
END:DAYLIGHT
BEGIN:DAYLIGHT
DTSTART:20260329T030000
RDATE:20261025T020000
TZOFFSETFROM:+0100
TZOFFSETTO:+0200
TZNAME:Europe/Vienna CEST
END:DAYLIGHT
BEGIN:DAYLIGHT
DTSTART:20270328T030000
RDATE:20271031T020000
TZOFFSETFROM:+0100
TZOFFSETTO:+0200
TZNAME:Europe/Vienna CEST
END:DAYLIGHT
BEGIN:DAYLIGHT
DTSTART:20280326T030000
RDATE:20281029T020000
TZOFFSETFROM:+0100
TZOFFSETTO:+0200
TZNAME:Europe/Vienna CEST
END:DAYLIGHT
BEGIN:DAYLIGHT
DTSTART:20290325T030000
RDATE:20291028T020000
TZOFFSETFROM:+0100
TZOFFSETTO:+0200
TZNAME:Europe/Vienna CEST
END:DAYLIGHT
BEGIN:DAYLIGHT
DTSTART:20300331T030000
RDATE:20301027T020000
TZOFFSETFROM:+0100
TZOFFSETTO:+0200
TZNAME:Europe/Vienna CEST
END:DAYLIGHT
BEGIN:DAYLIGHT
DTSTART:20310330T030000
RDATE:20311026T020000
TZOFFSETFROM:+0100
TZOFFSETTO:+0200
TZNAME:Europe/Vienna CEST
END:DAYLIGHT
BEGIN:DAYLIGHT
DTSTART:20320328T030000
RDATE:20321031T020000
TZOFFSETFROM:+0100
TZOFFSETTO:+0200
TZNAME:Europe/Vienna CEST
END:DAYLIGHT
BEGIN:DAYLIGHT
DTSTART:20330327T030000
RDATE:20331030T020000
TZOFFSETFROM:+0100
TZOFFSETTO:+0200
TZNAME:Europe/Vienna CEST
END:DAYLIGHT
BEGIN:DAYLIGHT
DTSTART:20340326T030000
RDATE:20341029T020000
TZOFFSETFROM:+0100
TZOFFSETTO:+0200
TZNAME:Europe/Vienna CEST
END:DAYLIGHT
END:VTIMEZONE
BEGIN:VEVENT
UID:
CATEGORIES:sonstige Veranstaltung
SUMMARY:Elevator Pitch für Frauen
LOCATION:Virtual
DESCRIPTION;ENCODING=QUOTED-PRINTABLE:<p>	Das PRO-BONO-CAMP bringt seit nunmehr drei Jahren engagierte Mitarbeite
 nde aus Unternehmen mit Non-Profit-Organisationen und Sozialunternehmen zus
 ammen. In kostenlosen Online-Einzelcoachings werden wertvolle Impulse ausge
 tauscht, Kompetenzen weitergegeben und so die gemeinn&uuml;tzige Arbeit vor
 angebracht.<br />	<br />	Im Rahmen des PRO-BONO-CAMPS finden dieses Jahr me
 hrere <strong>PRO-BONO-DAYS</strong> statt.</p><h4 style="text-align: cente
 r;">	Von Frauen f&uuml;r Frauen &ndash; unsere drei Themen am Weltfrauentag
 :</h4><p>	<strong>Information und Anmeldung:</strong></p><p>	<strong><a hre
 f="https://newsletter.hausdesstiftens.org/c/53477104/adc10a575fa26-s8j5oj" 
 rel="noopener" target="_blank">Weibliche F&uuml;hrungskr&auml;fte: St&auml;
 rken erkennen, Potenziale entfalten</a></strong><br />	7. M&auml;rz 2024, 1
 0:00&ndash;11:15 Uhr.<br />	<br />	<strong><a href="https://newsletter.haus
 desstiftens.org/c/53477105/adc10a575fa26-s8j5oj" rel="noopener" target="_bl
 ank">Elevator Pitch f&uuml;r Frauen</a></strong><br class="false" />	7. M&a
 uml;rz 2024, 13:00&ndash;14:15 Uhr.<br />	<br />	<strong><a href="https://n
 ewsletter.hausdesstiftens.org/c/53477106/adc10a575fa26-s8j5oj" rel="noopene
 r" target="_blank">Zeit im Griff: Effektives Zeitmanagement f&uuml;r Frauen
 </a></strong><br />	7. M&auml;rz 2024, 15:00&ndash;16:15 Uhr.</p><p>	&nbsp;
 </p><p>	Unser Tipp: Nutzen Sie die Warteliste!&nbsp;</p><p>	Das Einzelcoach
 ing Ihrer Wahl ist ausgebucht? Dann setzen Sie Ihren Namen auf die Wartelis
 te &ndash; mit ein bisschen Gl&uuml;ck werden Pl&auml;tze wieder frei und S
 ie k&ouml;nnen doch teilnehmen!</p><p>	&nbsp;</p>
CONTACT:Haus des Stiftens
DTSTAMP:20260422T021130Z
DTSTART;TZID=Europe/Vienna:20240307T130000
DTEND;TZID=Europe/Vienna:20240307T141500
SEQUENCE:1
TRANSP:OPAQUE
END:VEVENT
END:VCALENDAR