BEGIN:VCALENDAR
VERSION:2.0
PRODID:-//jEvents 2.0 for Joomla//EN
CALSCALE:GREGORIAN
METHOD:PUBLISH
BEGIN:VTIMEZONE
TZID:Europe/Vienna
BEGIN:STANDARD
DTSTART:20201025T020000
RDATE:20210328T030000
TZOFFSETFROM:+0200
TZOFFSETTO:+0100
TZNAME:Europe/Vienna CET
END:STANDARD
BEGIN:STANDARD
DTSTART:20211031T020000
RDATE:20220327T030000
TZOFFSETFROM:+0200
TZOFFSETTO:+0100
TZNAME:Europe/Vienna CET
END:STANDARD
BEGIN:STANDARD
DTSTART:20221030T020000
RDATE:20230326T030000
TZOFFSETFROM:+0200
TZOFFSETTO:+0100
TZNAME:Europe/Vienna CET
END:STANDARD
BEGIN:STANDARD
DTSTART:20231029T020000
RDATE:20240331T030000
TZOFFSETFROM:+0200
TZOFFSETTO:+0100
TZNAME:Europe/Vienna CET
END:STANDARD
BEGIN:STANDARD
DTSTART:20241027T020000
RDATE:20250330T030000
TZOFFSETFROM:+0200
TZOFFSETTO:+0100
TZNAME:Europe/Vienna CET
END:STANDARD
BEGIN:STANDARD
DTSTART:20251026T020000
RDATE:20260329T030000
TZOFFSETFROM:+0200
TZOFFSETTO:+0100
TZNAME:Europe/Vienna CET
END:STANDARD
BEGIN:STANDARD
DTSTART:20261025T020000
RDATE:20270328T030000
TZOFFSETFROM:+0200
TZOFFSETTO:+0100
TZNAME:Europe/Vienna CET
END:STANDARD
BEGIN:STANDARD
DTSTART:20271031T020000
RDATE:20280326T030000
TZOFFSETFROM:+0200
TZOFFSETTO:+0100
TZNAME:Europe/Vienna CET
END:STANDARD
BEGIN:STANDARD
DTSTART:20281029T020000
RDATE:20290325T030000
TZOFFSETFROM:+0200
TZOFFSETTO:+0100
TZNAME:Europe/Vienna CET
END:STANDARD
BEGIN:STANDARD
DTSTART:20291028T020000
RDATE:20300331T030000
TZOFFSETFROM:+0200
TZOFFSETTO:+0100
TZNAME:Europe/Vienna CET
END:STANDARD
BEGIN:STANDARD
DTSTART:20301027T020000
RDATE:20310330T030000
TZOFFSETFROM:+0200
TZOFFSETTO:+0100
TZNAME:Europe/Vienna CET
END:STANDARD
BEGIN:STANDARD
DTSTART:20311026T020000
RDATE:20320328T030000
TZOFFSETFROM:+0200
TZOFFSETTO:+0100
TZNAME:Europe/Vienna CET
END:STANDARD
BEGIN:STANDARD
DTSTART:20321031T020000
RDATE:20330327T030000
TZOFFSETFROM:+0200
TZOFFSETTO:+0100
TZNAME:Europe/Vienna CET
END:STANDARD
BEGIN:STANDARD
DTSTART:20331030T020000
RDATE:20340326T030000
TZOFFSETFROM:+0200
TZOFFSETTO:+0100
TZNAME:Europe/Vienna CET
END:STANDARD
BEGIN:STANDARD
DTSTART:20341029T020000
RDATE:20350325T030000
TZOFFSETFROM:+0200
TZOFFSETTO:+0100
TZNAME:Europe/Vienna CET
END:STANDARD
BEGIN:DAYLIGHT
DTSTART:20200609T140000
RDATE:20201025T020000
TZOFFSETFROM:+0100
TZOFFSETTO:+0200
TZNAME:Europe/Vienna CEST
END:DAYLIGHT
BEGIN:DAYLIGHT
DTSTART:20210328T030000
RDATE:20211031T020000
TZOFFSETFROM:+0100
TZOFFSETTO:+0200
TZNAME:Europe/Vienna CEST
END:DAYLIGHT
BEGIN:DAYLIGHT
DTSTART:20220327T030000
RDATE:20221030T020000
TZOFFSETFROM:+0100
TZOFFSETTO:+0200
TZNAME:Europe/Vienna CEST
END:DAYLIGHT
BEGIN:DAYLIGHT
DTSTART:20230326T030000
RDATE:20231029T020000
TZOFFSETFROM:+0100
TZOFFSETTO:+0200
TZNAME:Europe/Vienna CEST
END:DAYLIGHT
BEGIN:DAYLIGHT
DTSTART:20240331T030000
RDATE:20241027T020000
TZOFFSETFROM:+0100
TZOFFSETTO:+0200
TZNAME:Europe/Vienna CEST
END:DAYLIGHT
BEGIN:DAYLIGHT
DTSTART:20250330T030000
RDATE:20251026T020000
TZOFFSETFROM:+0100
TZOFFSETTO:+0200
TZNAME:Europe/Vienna CEST
END:DAYLIGHT
BEGIN:DAYLIGHT
DTSTART:20260329T030000
RDATE:20261025T020000
TZOFFSETFROM:+0100
TZOFFSETTO:+0200
TZNAME:Europe/Vienna CEST
END:DAYLIGHT
BEGIN:DAYLIGHT
DTSTART:20270328T030000
RDATE:20271031T020000
TZOFFSETFROM:+0100
TZOFFSETTO:+0200
TZNAME:Europe/Vienna CEST
END:DAYLIGHT
BEGIN:DAYLIGHT
DTSTART:20280326T030000
RDATE:20281029T020000
TZOFFSETFROM:+0100
TZOFFSETTO:+0200
TZNAME:Europe/Vienna CEST
END:DAYLIGHT
BEGIN:DAYLIGHT
DTSTART:20290325T030000
RDATE:20291028T020000
TZOFFSETFROM:+0100
TZOFFSETTO:+0200
TZNAME:Europe/Vienna CEST
END:DAYLIGHT
BEGIN:DAYLIGHT
DTSTART:20300331T030000
RDATE:20301027T020000
TZOFFSETFROM:+0100
TZOFFSETTO:+0200
TZNAME:Europe/Vienna CEST
END:DAYLIGHT
BEGIN:DAYLIGHT
DTSTART:20310330T030000
RDATE:20311026T020000
TZOFFSETFROM:+0100
TZOFFSETTO:+0200
TZNAME:Europe/Vienna CEST
END:DAYLIGHT
BEGIN:DAYLIGHT
DTSTART:20320328T030000
RDATE:20321031T020000
TZOFFSETFROM:+0100
TZOFFSETTO:+0200
TZNAME:Europe/Vienna CEST
END:DAYLIGHT
BEGIN:DAYLIGHT
DTSTART:20330327T030000
RDATE:20331030T020000
TZOFFSETFROM:+0100
TZOFFSETTO:+0200
TZNAME:Europe/Vienna CEST
END:DAYLIGHT
BEGIN:DAYLIGHT
DTSTART:20340326T030000
RDATE:20341029T020000
TZOFFSETFROM:+0100
TZOFFSETTO:+0200
TZNAME:Europe/Vienna CEST
END:DAYLIGHT
END:VTIMEZONE
BEGIN:VEVENT
UID:
CATEGORIES:Workshop
SUMMARY:"Hard- und Software im Bereich Bioinformatik"
LOCATION:Online via Zoom
DESCRIPTION;ENCODING=QUOTED-PRINTABLE:<div style="margin-top: 0px; margin-bottom: 0px;">	<font color="#212121" fa
 ce="Segoe UI,Segoe WP,Segoe UI WPC,Tahoma,Arial,sans-serif" size="1"><span 
 style="font-size: 13.31px;">Gemeinsam mit Prof. Rattei von der Universit&au
 ml;t Wien und den&nbsp;</span></font><font color="#212121" face="Segoe UI,S
 egoe WP,Segoe UI WPC,Tahoma,Arial,sans-serif" size="1"><span style="font-si
 ze: 13.31px;">FachexpertInnen von<span class="Apple-converted-space">&nbsp;
 </span><a href="http://bioinformatik.at/">Bioinformatik.at</a>, bieten wir 
 Ihnen einen Einblick in&nbsp;</span></font><font color="#212121" face="Sego
 e UI,Segoe WP,Segoe UI WPC,Tahoma,Arial,sans-serif" size="1"><span style="f
 ont-size: 13.31px;">die bestehende technische Infrastruktur und k&uuml;nfti
 gen&nbsp;</span></font><font color="#212121" face="Segoe UI,Segoe WP,Segoe 
 UI WPC,Tahoma,Arial,sans-serif" size="1"><span style="font-size: 13.31px;">
 Anwendungsm&ouml;glichkeiten, im Rahmen einer digitalen Veranstaltung.</spa
 n></font><br />	<br />	<font color="#212121" face="Segoe UI,Segoe WP,Segoe 
 UI WPC,Tahoma,Arial,sans-serif" size="1"><span style="font-size: 13.31px;">
 <strong>Wann:</strong></span></font><font color="#212121" face="Segoe UI,Se
 goe WP,Segoe UI WPC,Tahoma,Arial,sans-serif" size="1"><span style="font-siz
 e: 13.31px;">&nbsp;Donnerstag, 10. Juni 2021</span></font><br />	<font colo
 r="#212121" face="Segoe UI,Segoe WP,Segoe UI WPC,Tahoma,Arial,sans-serif" s
 ize="1"><span style="font-size: 13.31px;"><strong>Uhrzeit:</strong></span><
 /font><font color="#212121" face="Segoe UI,Segoe WP,Segoe UI WPC,Tahoma,Ari
 al,sans-serif" size="1"><span style="font-size: 13.31px;">&nbsp;14:00 - 16:
 00 Uhr</span></font><br />	<font color="#212121" face="Segoe UI,Segoe WP,Se
 goe UI WPC,Tahoma,Arial,sans-serif" size="1"><span style="font-size: 13.31p
 x;"><strong>Wo:</strong></span></font><font face="Segoe UI,Segoe WP,Segoe U
 I WPC,Tahoma,Arial,sans-serif" size="1"><font><a href="https://tuwien.zoom.
 us/j/97646865600?pwd=NGZXU0xHalZzb1dmcWdHR0pOZGg2QT09">https://tuwien.zoom.
 us/j/97646865600?pwd=NGZXU0xHalZzb1dmcWdHR0pOZGg2QT09</a>​</font></font></d
 iv><div style="margin-top: 0px; margin-bottom: 0px;">	<br />	<font face="Se
 goe UI,Segoe WP,Segoe UI WPC,Tahoma,Arial,sans-serif" size="1"><span style=
 "font-size: 13.31px;"><strong>Die Agenda lautet wie folgt:</strong></span><
 /font></div><div style="margin-top: 0px; margin-bottom: 0px;">	&nbsp;</div>
 <table cellpadding="2" cellspacing="0" class="ms-rteTable-lightlines" style
 ="border-collapse: collapse; border: 1px solid transparent;" width="565">	<
 colgroup>		<col style="width: 114px;" width="114" />		<col style="width: 27
 1px;" width="271" />		<col style="width: 165px;" width="165" />	</colgroup>
 	<tbody>		<tr class="ms-rteTableEvenRow-lightlines" style="border-collapse:
  collapse; border: 1px solid transparent; background-color: rgba(255, 255, 
 255, 0.85);">			<td class="ms-rteTableEvenCol-lightlines" style="border-col
 lapse: collapse; border-color: transparent transparent rgb(146, 192, 224); 
 border-top-width: 1px; border-bottom-width: 1px; border-top-style: solid; b
 order-bottom-style: solid;" width="114">				<div style="margin-top: 0px; ma
 rgin-bottom: 7.8pt;">					<font face="Arial,Helvetica,sans-serif" size="2">
 <span style="font-size: 9pt;"><em>SpeakerIn</em></span></font></div>			</td
 >			<td class="ms-rteTableOddCol-lightlines" style="border-collapse: collap
 se; border-color: transparent transparent rgb(146, 192, 224); border-top-wi
 dth: 1px; border-bottom-width: 1px; border-top-style: solid; border-bottom-
 style: solid;" width="271">				<div style="margin-top: 0px; margin-bottom: 
 7.8pt;">					<em>​</em><font face="Arial,Helvetica,sans-serif" size="2"><sp
 an style="font-size: 9pt;"><em>Insitution &nbsp;<span class="Apple-converte
 d-space">&nbsp;</span></em>&nbsp; &nbsp; &nbsp;</span></font></div>			</td>
 			<td class="ms-rteTableEvenCol-lightlines" style="border-collapse: collap
 se; border-color: transparent transparent rgb(146, 192, 224); border-top-wi
 dth: 1px; border-bottom-width: 1px; border-top-style: solid; border-bottom-
 style: solid;" width="165">				&nbsp;</td>		</tr>		<tr class="ms-rteTableOd
 dRow-lightlines" style="border-collapse: collapse; border: 1px solid transp
 arent; background-color: rgba(255, 255, 255, 0.85);">			<td class="ms-rteTa
 bleEvenCol-lightlines" style="border-collapse: collapse; border-color: tran
 sparent transparent rgb(146, 192, 224); border-top-width: 1px; border-botto
 m-width: 1px; border-top-style: solid; border-bottom-style: solid;" width="
 114">				<div style="margin-top: 0px; margin-bottom: 7.8pt;">					​<font fa
 ce="Arial,Helvetica,sans-serif" size="2"><span style="font-size: 9pt;">Mark
 us St&ouml;hr&nbsp;&nbsp;&nbsp;&nbsp;&nbsp;&nbsp;&nbsp;&nbsp;&nbsp;&nbsp;</
 span></font>&nbsp; &nbsp; &nbsp; &nbsp; &nbsp; &nbsp;&nbsp;</div>			</td>		
 	<td class="ms-rteTableOddCol-lightlines" style="border-collapse: collapse;
  border-color: transparent transparent rgb(146, 192, 224); border-top-width
 : 1px; border-bottom-width: 1px; border-top-style: solid; border-bottom-sty
 le: solid;" width="271">				<div style="margin-top: 0px; margin-bottom: 7.8
 pt;">					​<font color="#212121" face="Arial,Helvetica,sans-serif" size="1"
 ><span style="font-size: 13.32px;">Vienna Scientific Cluster /&nbsp;</span>
 </font><br />					<font color="#212121" face="Arial,Helvetica,sans-serif" s
 ize="1"><span style="font-size: 13.32px;">EuroCC Austria</span></font></div
 >			</td>			<td class="ms-rteTableEvenCol-lightlines" style="border-collaps
 e: collapse; border-color: transparent transparent rgb(146, 192, 224); bord
 er-top-width: 1px; border-bottom-width: 1px; border-top-style: solid; borde
 r-bottom-style: solid;" width="165">				&nbsp;</td>		</tr>		<tr class="ms-r
 teTableEvenRow-lightlines" style="border-collapse: collapse; border: 1px so
 lid transparent; background-color: rgba(255, 255, 255, 0.85);">			<td class
 ="ms-rteTableEvenCol-lightlines" style="border-collapse: collapse; border-c
 olor: transparent transparent rgb(146, 192, 224); border-top-width: 1px; bo
 rder-bottom-width: 1px; border-top-style: solid; border-bottom-style: solid
 ;" width="114">				<div style="margin-top: 0px; margin-bottom: 7.8pt;">				
 	​<font face="Arial,Helvetica,sans-serif" size="2"><span style="font-size: 
 9pt;">Thomas Rattei</span></font>&nbsp; &nbsp;&nbsp;</div>			</td>			<td cl
 ass="ms-rteTableOddCol-lightlines" style="border-collapse: collapse; border
 -color: transparent transparent rgb(146, 192, 224); border-top-width: 1px; 
 border-bottom-width: 1px; border-top-style: solid; border-bottom-style: sol
 id;" width="271">				<div style="margin-top: 0px; margin-bottom: 7.8pt;">		
 			​<font face="Segoe UI,Segoe WP,Segoe UI WPC,Tahoma,Arial,sans-serif" siz
 e="2"><span style="font-size: 9pt;">Centre for Microbiology&nbsp;and Enviro
 nmental&nbsp;Systems Science&nbsp;-&nbsp;Doctoral School Microbiology and E
 nvironmental Science</span></font></div>			</td>			<td class="ms-rteTableEv
 enCol-lightlines" style="border-collapse: collapse; border-color: transpare
 nt transparent rgb(146, 192, 224); border-top-width: 1px; border-bottom-wid
 th: 1px; border-top-style: solid; border-bottom-style: solid;" width="165">
 				&nbsp;</td>		</tr>		<tr class="ms-rteTableOddRow-lightlines" style="bor
 der-collapse: collapse; border: 1px solid transparent; background-color: rg
 ba(255, 255, 255, 0.85);">			<td class="ms-rteTableEvenCol-lightlines" styl
 e="border-collapse: collapse; border-color: transparent transparent rgb(146
 , 192, 224); border-top-width: 1px; border-bottom-width: 1px; border-top-st
 yle: solid; border-bottom-style: solid;" width="114">				<div style="margin
 -top: 0px; margin-bottom: 7.8pt;">					​<font face="Arial,Helvetica,sans-se
 rif" size="2"><span style="font-size: 9pt;">Stephan Winkler &nbsp; &nbsp; &
 nbsp; &nbsp; &nbsp; &nbsp; &nbsp; &nbsp;</span></font></div>			</td>			<td 
 class="ms-rteTableOddCol-lightlines" style="border-collapse: collapse; bord
 er-color: transparent transparent rgb(146, 192, 224); border-top-width: 1px
 ; border-bottom-width: 1px; border-top-style: solid; border-bottom-style: s
 olid;" width="271">				<div align="left" style="text-align: justify; margin
 -top: 0px; margin-bottom: 7.8pt;">					<br />					<font face="Arial,Helveti
 ca,sans-serif" size="2"><span style="font-size: 9pt;">University of Applied
  Sciences Hagenberg - Bioinformatics Research Group</span></font></div>			<
 /td>			<td class="ms-rteTableEvenCol-lightlines" style="border-collapse: co
 llapse; border-color: transparent transparent rgb(146, 192, 224); border-to
 p-width: 1px; border-bottom-width: 1px; border-top-style: solid; border-bot
 tom-style: solid;" width="165">				&nbsp;</td>		</tr>		<tr class="ms-rteTab
 leEvenRow-lightlines" style="border-collapse: collapse; border: 1px solid t
 ransparent; background-color: rgba(255, 255, 255, 0.85);">			<td class="ms-
 rteTableEvenCol-lightlines" style="border-collapse: collapse; border-color:
  transparent transparent rgb(146, 192, 224); border-top-width: 1px; border-
 bottom-width: 1px; border-top-style: solid; border-bottom-style: solid;" wi
 dth="114">				<div style="margin-top: 0px; margin-bottom: 7.8pt;">					<fon
 t color="#333333" face="Arial,Helvetica,sans-serif" size="2"><span style="f
 ont-size: 9pt;">Zlatko Trajanoski</span></font></div>			</td>			<td class="
 ms-rteTableOddCol-lightlines" style="border-collapse: collapse; border-colo
 r: transparent transparent rgb(146, 192, 224); border-top-width: 1px; borde
 r-bottom-width: 1px; border-top-style: solid; border-bottom-style: solid;" 
 width="271">				<div style="margin-top: 0px; margin-bottom: 7.8pt;">					<f
 ont face="Arial,Helvetica,sans-serif" size="2"><span style="font-size: 9pt;
 ">Medical University of Innsbruck - Di- vision of Bioinformatics</span></fo
 nt></div>			</td>			<td class="ms-rteTableEvenCol-lightlines" style="border
 -collapse: collapse; border-color: transparent transparent rgb(146, 192, 22
 4); border-top-width: 1px; border-bottom-width: 1px; border-top-style: soli
 d; border-bottom-style: solid;" width="165">				&nbsp;</td>		</tr>		<tr cla
 ss="ms-rteTableOddRow-lightlines" style="border-collapse: collapse; border:
  1px solid transparent; background-color: rgba(255, 255, 255, 0.85);">			<t
 d class="ms-rteTableEvenCol-lightlines" style="border-collapse: collapse; b
 order-color: transparent transparent rgb(146, 192, 224); border-top-width: 
 1px; border-bottom-width: 1px; border-top-style: solid; border-bottom-style
 : solid;" width="114">				<div style="margin-top: 0px; margin-bottom: 7.8pt
 ;">					​<font face="Arial,Helvetica,sans-serif" size="2"><span style="font
 -size: 9pt;">Christoph Bock</span></font></div>			</td>			<td class="ms-rte
 TableOddCol-lightlines" style="border-collapse: collapse; border-color: tra
 nsparent transparent rgb(146, 192, 224); border-top-width: 1px; border-bott
 om-width: 1px; border-top-style: solid; border-bottom-style: solid;" width=
 "271">				<div align="left" style="text-align: justify; margin-top: 0px; ma
 rgin-bottom: 7.8pt;">					<br />					<font face="Arial,Helvetica,sans-serif
 " size="2"><span style="font-size: 9pt;">CeMM Research Center for Molecular
  Medicine of the Austrian Academy of Sciences</span></font></div>			</td>		
 	<td class="ms-rteTableEvenCol-lightlines" style="border-collapse: collapse
 ; border-color: transparent transparent rgb(146, 192, 224); border-top-widt
 h: 1px; border-bottom-width: 1px; border-top-style: solid; border-bottom-st
 yle: solid;" width="165">				<div style="margin-top: 0px; margin-bottom: 7.
 8pt;">					​</div>			</td>		</tr>		<tr class="ms-rteTableEvenRow-lightlines
 " style="border-collapse: collapse; border: 1px solid transparent; backgrou
 nd-color: rgba(255, 255, 255, 0.85);">			<td class="ms-rteTableEvenCol-ligh
 tlines" style="border-collapse: collapse; border-color: transparent transpa
 rent rgb(146, 192, 224); border-top-width: 1px; border-bottom-width: 1px; b
 order-top-style: solid; border-bottom-style: solid;" width="114">				<div a
 lign="left" style="text-align: justify; margin-top: 0px; margin-bottom: 7.8
 pt;">					<br />					<font face="Arial,Helvetica,sans-serif" size="2"><span
  style="font-size: 9pt;">Michaela Hendling</span></font></div>			</td>			<t
 d class="ms-rteTableOddCol-lightlines" style="border-collapse: collapse; bo
 rder-color: transparent transparent rgb(146, 192, 224); border-top-width: 1
 px; border-bottom-width: 1px; border-top-style: solid; border-bottom-style:
  solid;" width="271">				<div align="left" style="text-align: justify; marg
 in-top: 0px; margin-bottom: 7.8pt;">					<br />					<font face="Arial,Helve
 tica,sans-serif" size="2"><span style="font-size: 9pt;">AIT-Austrian Instit
 ute of Technology</span></font></div>			</td>			<td class="ms-rteTableEvenC
 ol-lightlines" style="border-collapse: collapse; border-color: transparent 
 transparent rgb(146, 192, 224); border-top-width: 1px; border-bottom-width:
  1px; border-top-style: solid; border-bottom-style: solid;" width="165">			
 	&nbsp;</td>		</tr>		<tr class="ms-rteTableOddRow-lightlines" style="border
 -collapse: collapse; border: 1px solid transparent; background-color: rgba(
 255, 255, 255, 0.85);">			<td class="ms-rteTableEvenCol-lightlines" style="
 border-collapse: collapse; border-color: transparent transparent rgb(146, 1
 92, 224); border-top-width: 1px; border-bottom-width: 1px; border-top-style
 : solid; border-bottom-style: solid;" width="114">				<div align="left" sty
 le="text-align: justify; margin-top: 0px; margin-bottom: 7.8pt;">					<font
  face="Arial,Helvetica,sans-serif" size="2"><span style="font-size: 9pt;">S
 lave Trajanoski</span></font></div>			</td>			<td class="ms-rteTableOddCol-
 lightlines" style="border-collapse: collapse; border-color: transparent tra
 nsparent rgb(146, 192, 224); border-top-width: 1px; border-bottom-width: 1p
 x; border-top-style: solid; border-bottom-style: solid;" width="271">				<d
 iv align="left" style="text-align: justify; margin-top: 0px; margin-bottom:
  7.8pt;">					​<font face="Arial,Helvetica,sans-serif" size="2"><span style
 ="font-size: 9pt;">Medical University of Graz - Center for Medical Research
 </span></font></div>			</td>			<td class="ms-rteTableEvenCol-lightlines" st
 yle="border-collapse: collapse; border-color: transparent transparent rgb(1
 46, 192, 224); border-top-width: 1px; border-bottom-width: 1px; border-top-
 style: solid; border-bottom-style: solid;" width="165">				<div style="marg
 in-top: 0px; margin-bottom: 7.8pt;">					​</div>			</td>		</tr>		<tr class=
 "ms-rteTableEvenRow-lightlines" style="border-collapse: collapse; border: 1
 px solid transparent; background-color: rgba(255, 255, 255, 0.85);">			<td 
 class="ms-rteTableEvenCol-lightlines" style="border-collapse: collapse; bor
 der-color: transparent transparent rgb(146, 192, 224); border-top-width: 1p
 x; border-bottom-width: 1px; border-top-style: solid; border-bottom-style: 
 solid;" width="114">				<div align="left" style="text-align: justify; margi
 n-top: 0px; margin-bottom: 7.8pt;">					<font color="#212121" face="Arial,H
 elvetica,sans-serif" size="2"><span style="font-size: 9pt;">G&uuml;nter Kla
 mbauer</span></font></div>			</td>			<td class="ms-rteTableOddCol-lightline
 s" style="border-collapse: collapse; border-color: transparent transparent 
 rgb(146, 192, 224); border-top-width: 1px; border-bottom-width: 1px; border
 -top-style: solid; border-bottom-style: solid;" width="271">				<div align=
 "left" style="text-align: justify; margin-top: 0px; margin-bottom: 7.8pt;">
 					​<font face="Arial,Helvetica,sans-serif" size="2"><span style="font-si
 ze: 9pt;">Johannes Kepler University Linz - Institute of Bioinformatics</sp
 an></font></div>			</td>			<td class="ms-rteTableEvenCol-lightlines" style=
 "border-collapse: collapse; border-color: transparent transparent rgb(146, 
 192, 224); border-top-width: 1px; border-bottom-width: 1px; border-top-styl
 e: solid; border-bottom-style: solid;" width="165">				<div style="margin-t
 op: 0px; margin-bottom: 7.8pt;">					​</div>			</td>		</tr>		<tr class="ms-
 rteTableOddRow-lightlines" style="border-collapse: collapse; border: 1px so
 lid transparent; background-color: rgba(255, 255, 255, 0.85);">			<td class
 ="ms-rteTableEvenCol-lightlines" style="border-collapse: collapse; border-c
 olor: transparent transparent rgb(146, 192, 224); border-top-width: 1px; bo
 rder-bottom-width: 1px; border-top-style: solid; border-bottom-style: solid
 ;" width="114">				<div align="left" style="text-align: justify; margin-top
 : 0px; margin-bottom: 7.8pt;">					<font face="Arial,Helvetica,sans-serif" 
 size="2"><span style="font-size: 9pt;">Hermann Schw&auml;rzler</span></font
 ></div>			</td>			<td class="ms-rteTableOddCol-lightlines" style="border-co
 llapse: collapse; border-color: transparent transparent rgb(146, 192, 224);
  border-top-width: 1px; border-bottom-width: 1px; border-top-style: solid; 
 border-bottom-style: solid;" width="271">				<div style="margin-top: 0px; m
 argin-bottom: 7.8pt;">					<font face="Arial,Helvetica,sans-serif" size="2"
 ><span style="font-size: 9pt;">Uni Innsbruck ZID</span></font></div>			</td
 >			<td class="ms-rteTableEvenCol-lightlines" style="border-collapse: colla
 pse; border-color: transparent transparent rgb(146, 192, 224); border-top-w
 idth: 1px; border-bottom-width: 1px; border-top-style: solid; border-bottom
 -style: solid;" width="165">				&nbsp;</td>		</tr>		<tr class="ms-rteTableE
 venRow-lightlines" style="border-collapse: collapse; border: 1px solid tran
 sparent; background-color: rgba(255, 255, 255, 0.85);">			<td class="ms-rte
 TableEvenCol-lightlines" style="border-collapse: collapse; border-color: tr
 ansparent transparent rgb(146, 192, 224); border-top-width: 1px; border-bot
 tom-width: 1px; border-top-style: solid; border-bottom-style: solid;" width
 ="114">				<div align="left" style="text-align: justify; margin-top: 0px; m
 argin-bottom: 7.8pt;">					<font face="Arial,Helvetica,sans-serif" size="2"
 ><span style="font-size: 9pt;">Robert Happel</span></font></div>			</td>			
 <td class="ms-rteTableOddCol-lightlines" style="border-collapse: collapse; 
 border-color: transparent transparent rgb(146, 192, 224); border-top-width:
  1px; border-bottom-width: 1px; border-top-style: solid; border-bottom-styl
 e: solid;" width="271">				<div align="left" style="text-align: justify; ma
 rgin-top: 0px; margin-bottom: 7.8pt;">					​<font face="Arial,Helvetica,san
 s-serif" size="2"><span style="font-size: 9pt;">Medical University of Vienn
 a - CIBIV MFPL</span></font></div>			</td>			<td class="ms-rteTableEvenCol-
 lightlines" style="border-collapse: collapse; border-color: transparent tra
 nsparent rgb(146, 192, 224); border-top-width: 1px; border-bottom-width: 1p
 x; border-top-style: solid; border-bottom-style: solid;" width="165">				&n
 bsp;</td>		</tr>		<tr class="ms-rteTableOddRow-lightlines" style="border-co
 llapse: collapse; border: 1px solid transparent; background-color: rgba(255
 , 255, 255, 0.85);">			<td class="ms-rteTableEvenCol-lightlines" style="bor
 der-collapse: collapse; border-color: transparent transparent rgb(146, 192,
  224); border-top-width: 1px; border-bottom-width: 1px; border-top-style: s
 olid; border-bottom-style: solid;" width="114">				<div style="margin-top: 
 0px; margin-bottom: 7.8pt;">					<font face="Arial,Helvetica,sans-serif" si
 ze="2"><span style="font-size: 9pt;">Karl Gruber</span></font></div>			</td
 >			<td class="ms-rteTableOddCol-lightlines" style="border-collapse: collap
 se; border-color: transparent transparent rgb(146, 192, 224); border-top-wi
 dth: 1px; border-bottom-width: 1px; border-top-style: solid; border-bottom-
 style: solid;" width="271">				<div align="left" style="text-align: justify
 ; margin-top: 0px; margin-bottom: 7.8pt;">					​<font face="Arial,Helvetica
 ,sans-serif" size="2"><span style="font-size: 9pt;">University of Graz - In
 stitute of Molecular Biosciences</span></font></div>			</td>			<td class="m
 s-rteTableEvenCol-lightlines" style="border-collapse: collapse; border-colo
 r: transparent transparent rgb(146, 192, 224); border-top-width: 1px; borde
 r-bottom-width: 1px; border-top-style: solid; border-bottom-style: solid;" 
 width="165">				<div style="margin-top: 0px; margin-bottom: 7.8pt;">					​<
 /div>			</td>		</tr>		<tr class="ms-rteTableEvenRow-lightlines" style="bord
 er-collapse: collapse; border: 1px solid transparent; background-color: rgb
 a(255, 255, 255, 0.85);">			<td class="ms-rteTableEvenCol-lightlines" style
 ="border-collapse: collapse; border-color: transparent transparent rgb(146,
  192, 224); border-top-width: 1px; border-bottom-width: 1px; border-top-sty
 le: solid; border-bottom-style: solid;" width="114">				<div align="left" s
 tyle="text-align: justify; margin-top: 0px; margin-bottom: 7.8pt;">					​<f
 ont color="#212121" face="Arial,Helvetica,sans-serif" size="2"><span style=
 "font-size: 9pt;">Konrad Lang</span></font></div>			</td>			<td class="ms-r
 teTableOddCol-lightlines" style="border-collapse: collapse; border-color: t
 ransparent transparent rgb(146, 192, 224); border-top-width: 1px; border-bo
 ttom-width: 1px; border-top-style: solid; border-bottom-style: solid;" widt
 h="271">				<div style="margin-top: 0px; margin-bottom: 7.8pt;">					<font 
 color="#212121" face="Arial,Helvetica,sans-serif" size="2"><span style="fon
 t-size: 9pt;">Graz University of Technology</span></font><br />					​​​</di
 v>			</td>			<td class="ms-rteTableEvenCol-lightlines" style="border-collap
 se: collapse; border-color: transparent transparent rgb(146, 192, 224); bor
 der-top-width: 1px; border-bottom-width: 1px; border-top-style: solid; bord
 er-bottom-style: solid;" width="165">				<div style="margin-top: 0px; margi
 n-bottom: 7.8pt;">					​</div>			</td>		</tr>		<tr class="ms-rteTableFooter
 Row-lightlines">			<td class="ms-rteTableFooterEvenCol-lightlines" rowspan=
 "1" width="114">				​​<span style="font-size: 9pt;">Erich Birngruber</span>
 </td>			<td class="ms-rteTableFooterOddCol-lightlines" rowspan="1" width="2
 71">				<span style="font-family: Arial, Helvetica, sans-serif; font-size: 
 9pt;">Gregor Mendel Institute of Molecular Plant Biology GmbH</span></td>		
 	<td class="ms-rteTableFooterEvenCol-lightlines" rowspan="1" width="165">		
 		​</td>		</tr>	</tbody></table><div style="margin-top: 0px; margin-bottom:
  0px;">	&nbsp;</div><div style="margin-top: 0px; margin-bottom: 0px;">	&nbs
 p;</div><p>	<font color="#212121" face="Segoe UI,Segoe WP,Segoe UI WPC,Taho
 ma,Arial,sans-serif" size="1"><span style="font-size: 13.31px;">Dieser Work
 shop wird organisiert von EuroCC@Austria&nbsp;</span></font><font color="#2
 12121" face="Segoe UI,Segoe WP,Segoe UI WPC,Tahoma,Arial,sans-serif" size="
 1"><span style="font-size: 13.31px;">(</span></font><a href="https://eurocc
 -austria.at/home/" id="NoLP" target="_blank"><font face="Calibri,Arial,Helv
 etica,sans-serif" size="2"><span style="font-size: 16px;"><font face="Segoe
  UI,Segoe WP,Segoe UI WPC,Tahoma,Arial,sans-serif" size="1"><span style="fo
 nt-size: 13.31px;">https://eurocc-austria.at/home/</span></font></span></fo
 nt></a><font color="#212121" face="Segoe UI,Segoe WP,Segoe UI WPC,Tahoma,Ar
 ial,sans-serif" size="1"><span style="font-size: 13.31px;">), einem EU gef&
 ouml;rderten Projekt zur&nbsp;</span></font><br />	<font color="#212121" fa
 ce="Segoe UI,Segoe WP,Segoe UI WPC,Tahoma,Arial,sans-serif" size="1"><span 
 style="font-size: 13.31px;">St&auml;rkung von High Performance Computing, B
 ig Data und Artificial&nbsp;</span></font><font color="#212121" face="Segoe
  UI,Segoe WP,Segoe UI WPC,Tahoma,Arial,sans-serif" size="1"><span style="fo
 nt-size: 13.31px;">Intelligence.</span></font><br />	&nbsp;</p>
CONTACT:https://eurocc-austria.at/home/
DTSTAMP:20260422T080027Z
DTSTART;TZID=Europe/Vienna:20210610T140000
DTEND;TZID=Europe/Vienna:20210610T160000
SEQUENCE:1
TRANSP:OPAQUE
END:VEVENT
END:VCALENDAR