BEGIN:VCALENDAR
VERSION:2.0
PRODID:-//jEvents 2.0 for Joomla//EN
CALSCALE:GREGORIAN
METHOD:PUBLISH
BEGIN:VTIMEZONE
TZID:Europe/Vienna
BEGIN:STANDARD
DTSTART:20181028T020000
RDATE:20190331T030000
TZOFFSETFROM:+0200
TZOFFSETTO:+0100
TZNAME:Europe/Vienna CET
END:STANDARD
BEGIN:STANDARD
DTSTART:20191027T020000
RDATE:20200329T030000
TZOFFSETFROM:+0200
TZOFFSETTO:+0100
TZNAME:Europe/Vienna CET
END:STANDARD
BEGIN:STANDARD
DTSTART:20201025T020000
RDATE:20210328T030000
TZOFFSETFROM:+0200
TZOFFSETTO:+0100
TZNAME:Europe/Vienna CET
END:STANDARD
BEGIN:STANDARD
DTSTART:20211031T020000
RDATE:20220327T030000
TZOFFSETFROM:+0200
TZOFFSETTO:+0100
TZNAME:Europe/Vienna CET
END:STANDARD
BEGIN:STANDARD
DTSTART:20221030T020000
RDATE:20230326T030000
TZOFFSETFROM:+0200
TZOFFSETTO:+0100
TZNAME:Europe/Vienna CET
END:STANDARD
BEGIN:STANDARD
DTSTART:20231029T020000
RDATE:20240331T030000
TZOFFSETFROM:+0200
TZOFFSETTO:+0100
TZNAME:Europe/Vienna CET
END:STANDARD
BEGIN:STANDARD
DTSTART:20241027T020000
RDATE:20250330T030000
TZOFFSETFROM:+0200
TZOFFSETTO:+0100
TZNAME:Europe/Vienna CET
END:STANDARD
BEGIN:STANDARD
DTSTART:20251026T020000
RDATE:20260329T030000
TZOFFSETFROM:+0200
TZOFFSETTO:+0100
TZNAME:Europe/Vienna CET
END:STANDARD
BEGIN:STANDARD
DTSTART:20261025T020000
RDATE:20270328T030000
TZOFFSETFROM:+0200
TZOFFSETTO:+0100
TZNAME:Europe/Vienna CET
END:STANDARD
BEGIN:STANDARD
DTSTART:20271031T020000
RDATE:20280326T030000
TZOFFSETFROM:+0200
TZOFFSETTO:+0100
TZNAME:Europe/Vienna CET
END:STANDARD
BEGIN:STANDARD
DTSTART:20281029T020000
RDATE:20290325T030000
TZOFFSETFROM:+0200
TZOFFSETTO:+0100
TZNAME:Europe/Vienna CET
END:STANDARD
BEGIN:STANDARD
DTSTART:20291028T020000
RDATE:20300331T030000
TZOFFSETFROM:+0200
TZOFFSETTO:+0100
TZNAME:Europe/Vienna CET
END:STANDARD
BEGIN:STANDARD
DTSTART:20301027T020000
RDATE:20310330T030000
TZOFFSETFROM:+0200
TZOFFSETTO:+0100
TZNAME:Europe/Vienna CET
END:STANDARD
BEGIN:STANDARD
DTSTART:20311026T020000
RDATE:20320328T030000
TZOFFSETFROM:+0200
TZOFFSETTO:+0100
TZNAME:Europe/Vienna CET
END:STANDARD
BEGIN:STANDARD
DTSTART:20321031T020000
RDATE:20330327T030000
TZOFFSETFROM:+0200
TZOFFSETTO:+0100
TZNAME:Europe/Vienna CET
END:STANDARD
BEGIN:STANDARD
DTSTART:20331030T020000
RDATE:20340326T030000
TZOFFSETFROM:+0200
TZOFFSETTO:+0100
TZNAME:Europe/Vienna CET
END:STANDARD
BEGIN:STANDARD
DTSTART:20341029T020000
RDATE:20350325T030000
TZOFFSETFROM:+0200
TZOFFSETTO:+0100
TZNAME:Europe/Vienna CET
END:STANDARD
BEGIN:DAYLIGHT
DTSTART:20180902T090000
RDATE:20181028T020000
TZOFFSETFROM:+0100
TZOFFSETTO:+0200
TZNAME:Europe/Vienna CEST
END:DAYLIGHT
BEGIN:DAYLIGHT
DTSTART:20190331T030000
RDATE:20191027T020000
TZOFFSETFROM:+0100
TZOFFSETTO:+0200
TZNAME:Europe/Vienna CEST
END:DAYLIGHT
BEGIN:DAYLIGHT
DTSTART:20200329T030000
RDATE:20201025T020000
TZOFFSETFROM:+0100
TZOFFSETTO:+0200
TZNAME:Europe/Vienna CEST
END:DAYLIGHT
BEGIN:DAYLIGHT
DTSTART:20210328T030000
RDATE:20211031T020000
TZOFFSETFROM:+0100
TZOFFSETTO:+0200
TZNAME:Europe/Vienna CEST
END:DAYLIGHT
BEGIN:DAYLIGHT
DTSTART:20220327T030000
RDATE:20221030T020000
TZOFFSETFROM:+0100
TZOFFSETTO:+0200
TZNAME:Europe/Vienna CEST
END:DAYLIGHT
BEGIN:DAYLIGHT
DTSTART:20230326T030000
RDATE:20231029T020000
TZOFFSETFROM:+0100
TZOFFSETTO:+0200
TZNAME:Europe/Vienna CEST
END:DAYLIGHT
BEGIN:DAYLIGHT
DTSTART:20240331T030000
RDATE:20241027T020000
TZOFFSETFROM:+0100
TZOFFSETTO:+0200
TZNAME:Europe/Vienna CEST
END:DAYLIGHT
BEGIN:DAYLIGHT
DTSTART:20250330T030000
RDATE:20251026T020000
TZOFFSETFROM:+0100
TZOFFSETTO:+0200
TZNAME:Europe/Vienna CEST
END:DAYLIGHT
BEGIN:DAYLIGHT
DTSTART:20260329T030000
RDATE:20261025T020000
TZOFFSETFROM:+0100
TZOFFSETTO:+0200
TZNAME:Europe/Vienna CEST
END:DAYLIGHT
BEGIN:DAYLIGHT
DTSTART:20270328T030000
RDATE:20271031T020000
TZOFFSETFROM:+0100
TZOFFSETTO:+0200
TZNAME:Europe/Vienna CEST
END:DAYLIGHT
BEGIN:DAYLIGHT
DTSTART:20280326T030000
RDATE:20281029T020000
TZOFFSETFROM:+0100
TZOFFSETTO:+0200
TZNAME:Europe/Vienna CEST
END:DAYLIGHT
BEGIN:DAYLIGHT
DTSTART:20290325T030000
RDATE:20291028T020000
TZOFFSETFROM:+0100
TZOFFSETTO:+0200
TZNAME:Europe/Vienna CEST
END:DAYLIGHT
BEGIN:DAYLIGHT
DTSTART:20300331T030000
RDATE:20301027T020000
TZOFFSETFROM:+0100
TZOFFSETTO:+0200
TZNAME:Europe/Vienna CEST
END:DAYLIGHT
BEGIN:DAYLIGHT
DTSTART:20310330T030000
RDATE:20311026T020000
TZOFFSETFROM:+0100
TZOFFSETTO:+0200
TZNAME:Europe/Vienna CEST
END:DAYLIGHT
BEGIN:DAYLIGHT
DTSTART:20320328T030000
RDATE:20321031T020000
TZOFFSETFROM:+0100
TZOFFSETTO:+0200
TZNAME:Europe/Vienna CEST
END:DAYLIGHT
BEGIN:DAYLIGHT
DTSTART:20330327T030000
RDATE:20331030T020000
TZOFFSETFROM:+0100
TZOFFSETTO:+0200
TZNAME:Europe/Vienna CEST
END:DAYLIGHT
BEGIN:DAYLIGHT
DTSTART:20340326T030000
RDATE:20341029T020000
TZOFFSETFROM:+0100
TZOFFSETTO:+0200
TZNAME:Europe/Vienna CEST
END:DAYLIGHT
END:VTIMEZONE
BEGIN:VEVENT
UID:
CATEGORIES:Kongress
SUMMARY:46th International Conference of the European Society of Artificial Organs - ESAO 2019
LOCATION:Hannover Germany
DESCRIPTION;ENCODING=QUOTED-PRINTABLE:<p>	Dear colleagues, dear members and friends of ESAO,<br />	<br />	It is o
 ur great pleasure to invite you to participate at the <a href="https://www.
 esao2019.org/" target="_blank">46th International Conference of the Europea
 n Society of Artificial Organs - ESAO </a>2019 in Hannover Germany (3-7 Sep
 tember 2019)!<br />	<br />	We are inviting researchers, clinicians, and med
 ical engineering and R&amp;D professionals working in the field of &ldquo;A
 rtificial Organs&rdquo; and &ldquo;Smartificial Devices For Our Future&rdqu
 o; to join the 46th ESAO conference at Leibniz University Hannover. Besides
  all types of artificial organs, the conference topics cover current trends
  in active implants, smart materials and intelligent medical devices which 
 will have a great impact on medical care in the following decades.<br />	<b
 r />	The scientific committee received a large number of high quality submi
 ssions and prepared an engaging program, which is now available as prelimin
 ary version at www.esao2019.org.<br />	<br />	&nbsp;<br />	<strong>Highligh
 ts of ESAO 2019</strong><br />	<br />	Opening Lecture:<br />	<br />	Prof. S
 ami Haddadin &ldquo;Actuation, Motor Control and Learning in Robots and Hum
 ans&rdquo;<br />	<br />	Plenary Lectures:<br />	<br />	Prof. C&eacute;cile 
 Legallais &ldquo;Bioartificial Liver: the benefit of multiscale approach&rd
 quo;<br />	<br />	Prof. Jos Vander Sloten &ldquo;Image based, patient speci
 fic medical device solutions&rdquo;<br />	<br />	Prof. Karin Wardell &ldquo
 ;Neuroengineering Challenges in Neurosurgery&rdquo;<br />	<br />	Invited Le
 ctures:<br />	<br />	Prof. Thordur Helgasson<br />	<br />	Prof. Jary Hyttin
 en<br />	<br />	Prof. Eyal Zussmann<br />	<br />	Nikkiso Lunch Symposium on
  Artificial Pancreas<br />	<br />	ESAO 2019 conference App<br />	<br />	&nb
 sp;<br />	<a href="https://www.esao2019.org/registration/#registernow" targ
 et="_blank">&gt;&gt; Register Now &lt;&lt;</a><br />	<br />	<br />	We are l
 ooking forward to meeting you in Hannover!<br />	On behalf of the local org
 anizing team<br />	<br />	Prof. Prof. h.c. Birgit Glasmacher<br />	-Congres
 s President-</p>
CONTACT:https://www.esao2019.org/
DTSTAMP:20260422T192413Z
DTSTART;TZID=Europe/Vienna:20190903T090000
DTEND;TZID=Europe/Vienna:20190907T180000
SEQUENCE:1
TRANSP:OPAQUE
END:VEVENT
END:VCALENDAR