BEGIN:VCALENDAR
VERSION:2.0
PRODID:-//jEvents 2.0 for Joomla//EN
CALSCALE:GREGORIAN
METHOD:PUBLISH
BEGIN:VTIMEZONE
TZID:Europe/Vienna
BEGIN:STANDARD
DTSTART:20241027T020000
RDATE:20250330T030000
TZOFFSETFROM:+0200
TZOFFSETTO:+0100
TZNAME:Europe/Vienna CET
END:STANDARD
BEGIN:STANDARD
DTSTART:20251026T020000
RDATE:20260329T030000
TZOFFSETFROM:+0200
TZOFFSETTO:+0100
TZNAME:Europe/Vienna CET
END:STANDARD
BEGIN:STANDARD
DTSTART:20261025T020000
RDATE:20270328T030000
TZOFFSETFROM:+0200
TZOFFSETTO:+0100
TZNAME:Europe/Vienna CET
END:STANDARD
BEGIN:STANDARD
DTSTART:20271031T020000
RDATE:20280326T030000
TZOFFSETFROM:+0200
TZOFFSETTO:+0100
TZNAME:Europe/Vienna CET
END:STANDARD
BEGIN:STANDARD
DTSTART:20281029T020000
RDATE:20290325T030000
TZOFFSETFROM:+0200
TZOFFSETTO:+0100
TZNAME:Europe/Vienna CET
END:STANDARD
BEGIN:STANDARD
DTSTART:20291028T020000
RDATE:20300331T030000
TZOFFSETFROM:+0200
TZOFFSETTO:+0100
TZNAME:Europe/Vienna CET
END:STANDARD
BEGIN:STANDARD
DTSTART:20301027T020000
RDATE:20310330T030000
TZOFFSETFROM:+0200
TZOFFSETTO:+0100
TZNAME:Europe/Vienna CET
END:STANDARD
BEGIN:STANDARD
DTSTART:20311026T020000
RDATE:20320328T030000
TZOFFSETFROM:+0200
TZOFFSETTO:+0100
TZNAME:Europe/Vienna CET
END:STANDARD
BEGIN:STANDARD
DTSTART:20321031T020000
RDATE:20330327T030000
TZOFFSETFROM:+0200
TZOFFSETTO:+0100
TZNAME:Europe/Vienna CET
END:STANDARD
BEGIN:STANDARD
DTSTART:20331030T020000
RDATE:20340326T030000
TZOFFSETFROM:+0200
TZOFFSETTO:+0100
TZNAME:Europe/Vienna CET
END:STANDARD
BEGIN:STANDARD
DTSTART:20341029T020000
RDATE:20350325T030000
TZOFFSETFROM:+0200
TZOFFSETTO:+0100
TZNAME:Europe/Vienna CET
END:STANDARD
BEGIN:DAYLIGHT
DTSTART:20240520T090000
RDATE:20241027T020000
TZOFFSETFROM:+0100
TZOFFSETTO:+0200
TZNAME:Europe/Vienna CEST
END:DAYLIGHT
BEGIN:DAYLIGHT
DTSTART:20250330T030000
RDATE:20251026T020000
TZOFFSETFROM:+0100
TZOFFSETTO:+0200
TZNAME:Europe/Vienna CEST
END:DAYLIGHT
BEGIN:DAYLIGHT
DTSTART:20260329T030000
RDATE:20261025T020000
TZOFFSETFROM:+0100
TZOFFSETTO:+0200
TZNAME:Europe/Vienna CEST
END:DAYLIGHT
BEGIN:DAYLIGHT
DTSTART:20270328T030000
RDATE:20271031T020000
TZOFFSETFROM:+0100
TZOFFSETTO:+0200
TZNAME:Europe/Vienna CEST
END:DAYLIGHT
BEGIN:DAYLIGHT
DTSTART:20280326T030000
RDATE:20281029T020000
TZOFFSETFROM:+0100
TZOFFSETTO:+0200
TZNAME:Europe/Vienna CEST
END:DAYLIGHT
BEGIN:DAYLIGHT
DTSTART:20290325T030000
RDATE:20291028T020000
TZOFFSETFROM:+0100
TZOFFSETTO:+0200
TZNAME:Europe/Vienna CEST
END:DAYLIGHT
BEGIN:DAYLIGHT
DTSTART:20300331T030000
RDATE:20301027T020000
TZOFFSETFROM:+0100
TZOFFSETTO:+0200
TZNAME:Europe/Vienna CEST
END:DAYLIGHT
BEGIN:DAYLIGHT
DTSTART:20310330T030000
RDATE:20311026T020000
TZOFFSETFROM:+0100
TZOFFSETTO:+0200
TZNAME:Europe/Vienna CEST
END:DAYLIGHT
BEGIN:DAYLIGHT
DTSTART:20320328T030000
RDATE:20321031T020000
TZOFFSETFROM:+0100
TZOFFSETTO:+0200
TZNAME:Europe/Vienna CEST
END:DAYLIGHT
BEGIN:DAYLIGHT
DTSTART:20330327T030000
RDATE:20331030T020000
TZOFFSETFROM:+0100
TZOFFSETTO:+0200
TZNAME:Europe/Vienna CEST
END:DAYLIGHT
BEGIN:DAYLIGHT
DTSTART:20340326T030000
RDATE:20341029T020000
TZOFFSETFROM:+0100
TZOFFSETTO:+0200
TZNAME:Europe/Vienna CEST
END:DAYLIGHT
END:VTIMEZONE
BEGIN:VEVENT
UID:
CATEGORIES:Workshop
SUMMARY:FEMS Webinar: Applied microbial testing with dPCR:
LOCATION:ONLINE
DESCRIPTION;ENCODING=QUOTED-PRINTABLE:<p>	<span><strong>The dMIQE guidelines and a real-life case</strong></span>
 </p><p style="Margin: 1em 0px; Margin-top: 0px;">	<strong>Wednesday 21 May 
 &amp; Thursday 22 May: Does this webinar have a plot twist?</strong></p><p 
 style="Margin: 1em 0px;">	You think you&rsquo;ve seen it before. Just an or
 dinary webinar about dPCR standards and a regular use case. But this webina
 r isn&rsquo;t ordinary. It&rsquo;s quite extra, mostly because of its two e
 xtraordinary speakers.</p><p style="Margin: 1em 0px;">	<span data-mce-style
 ="text-decoration: underline;" style="text-decoration: underline;"><strong>
 Who are they?</strong></span></p><ul>	<li>		One speaker&nbsp;co-authored th
 e dMIQE guidelines&nbsp;&ndash; used to improve dPCR reproducibility and st
 andardization since 2013<br />		&nbsp;</li>	<li>		The other developed a&nbs
 p;culture-free dPCR protocol for STEC detection that is 86% faster&nbsp;tha
 n traditional methods</li></ul><p style="Margin: 1em 0px;">	It&rsquo;s not 
 just the speakers, their topics are also extraordinary. You haven&rsquo;t s
 een it before. But you&rsquo;ll probably want to see it again and again.</p
 ><p style="Margin: 1em 0px;">	<span data-mce-style="text-decoration: underl
 ine;" style="text-decoration: underline;"><strong>Webinars &amp; Speakers:<
 /strong></span><br />	<br />	<strong>Afif M. Abdel Nour, PhD</strong> - Dr.
  Afif M. Abdel Nour is a specialist in applied molecular biology and dPCR w
 ith over 40 publications and academic and industry experience across Europe
  and the Middle East.</p><ul>	<li>		<strong>Title:</strong>&nbsp;The fine a
 rt of digital PCR: Decrypting the dMIQE guidelines and applications in appl
 ied testing</li>	<li>		<strong>Date:</strong>&nbsp;Wednesday 21 May 2025</l
 i>	<li>		<strong>Time:</strong>&nbsp;9:00 AM CEST</li></ul><p style="Margin
 : 1em 0px;">	&nbsp;<br />	<strong>Jianfa Bai, PhD</strong> - Dr. Jianfa Bai
  is a Professor and Section Head at the Kansas State Veterinary Diagnostic 
 Laboratory (KSVDL), Kansas State University, where he specializes in molecu
 lar assay development &ndash; including dPCR for STEC detection &ndash; wit
 h over 130 publications to his team&rsquo;s credit.</p><ul>	<li>		<strong>T
 itle:</strong>&nbsp;Culture-independent detection and confirmation of Shiga
 -toxin-producing <em>E. coli</em> with next-day reporting</li>	<li>		<stron
 g>Date:</strong>&nbsp;Thursday 22 May 2025</li>	<li>		<strong>Time:</strong
 >&nbsp;9:00 AM EDT</li></ul><p>	Register <a href="https://shorturl.at/WpnnD
 " onclick="window.open(this.href, '', 'resizable=no,status=no,location=no,t
 oolbar=no,menubar=no,fullscreen=no,scrollbars=no,dependent=no'); return fal
 se;">here</a>, please.</p>
CONTACT:https://shorturl.at/WpnnD
DTSTAMP:20260421T051511Z
DTSTART;TZID=Europe/Vienna:20250521T090000
DTEND;TZID=Europe/Vienna:20250522T110000
SEQUENCE:1
TRANSP:OPAQUE
END:VEVENT
END:VCALENDAR