BEGIN:VCALENDAR
VERSION:2.0
PRODID:-//jEvents 2.0 for Joomla//EN
CALSCALE:GREGORIAN
METHOD:PUBLISH
BEGIN:VTIMEZONE
TZID:Europe/Vienna
BEGIN:STANDARD
DTSTART:20241027T020000
RDATE:20250330T030000
TZOFFSETFROM:+0200
TZOFFSETTO:+0100
TZNAME:Europe/Vienna CET
END:STANDARD
BEGIN:STANDARD
DTSTART:20251026T020000
RDATE:20260329T030000
TZOFFSETFROM:+0200
TZOFFSETTO:+0100
TZNAME:Europe/Vienna CET
END:STANDARD
BEGIN:STANDARD
DTSTART:20261025T020000
RDATE:20270328T030000
TZOFFSETFROM:+0200
TZOFFSETTO:+0100
TZNAME:Europe/Vienna CET
END:STANDARD
BEGIN:STANDARD
DTSTART:20271031T020000
RDATE:20280326T030000
TZOFFSETFROM:+0200
TZOFFSETTO:+0100
TZNAME:Europe/Vienna CET
END:STANDARD
BEGIN:STANDARD
DTSTART:20281029T020000
RDATE:20290325T030000
TZOFFSETFROM:+0200
TZOFFSETTO:+0100
TZNAME:Europe/Vienna CET
END:STANDARD
BEGIN:STANDARD
DTSTART:20291028T020000
RDATE:20300331T030000
TZOFFSETFROM:+0200
TZOFFSETTO:+0100
TZNAME:Europe/Vienna CET
END:STANDARD
BEGIN:STANDARD
DTSTART:20301027T020000
RDATE:20310330T030000
TZOFFSETFROM:+0200
TZOFFSETTO:+0100
TZNAME:Europe/Vienna CET
END:STANDARD
BEGIN:STANDARD
DTSTART:20311026T020000
RDATE:20320328T030000
TZOFFSETFROM:+0200
TZOFFSETTO:+0100
TZNAME:Europe/Vienna CET
END:STANDARD
BEGIN:STANDARD
DTSTART:20321031T020000
RDATE:20330327T030000
TZOFFSETFROM:+0200
TZOFFSETTO:+0100
TZNAME:Europe/Vienna CET
END:STANDARD
BEGIN:STANDARD
DTSTART:20331030T020000
RDATE:20340326T030000
TZOFFSETFROM:+0200
TZOFFSETTO:+0100
TZNAME:Europe/Vienna CET
END:STANDARD
BEGIN:STANDARD
DTSTART:20341029T020000
RDATE:20350325T030000
TZOFFSETFROM:+0200
TZOFFSETTO:+0100
TZNAME:Europe/Vienna CET
END:STANDARD
BEGIN:DAYLIGHT
DTSTART:20240520T080000
RDATE:20241027T020000
TZOFFSETFROM:+0100
TZOFFSETTO:+0200
TZNAME:Europe/Vienna CEST
END:DAYLIGHT
BEGIN:DAYLIGHT
DTSTART:20250330T030000
RDATE:20251026T020000
TZOFFSETFROM:+0100
TZOFFSETTO:+0200
TZNAME:Europe/Vienna CEST
END:DAYLIGHT
BEGIN:DAYLIGHT
DTSTART:20260329T030000
RDATE:20261025T020000
TZOFFSETFROM:+0100
TZOFFSETTO:+0200
TZNAME:Europe/Vienna CEST
END:DAYLIGHT
BEGIN:DAYLIGHT
DTSTART:20270328T030000
RDATE:20271031T020000
TZOFFSETFROM:+0100
TZOFFSETTO:+0200
TZNAME:Europe/Vienna CEST
END:DAYLIGHT
BEGIN:DAYLIGHT
DTSTART:20280326T030000
RDATE:20281029T020000
TZOFFSETFROM:+0100
TZOFFSETTO:+0200
TZNAME:Europe/Vienna CEST
END:DAYLIGHT
BEGIN:DAYLIGHT
DTSTART:20290325T030000
RDATE:20291028T020000
TZOFFSETFROM:+0100
TZOFFSETTO:+0200
TZNAME:Europe/Vienna CEST
END:DAYLIGHT
BEGIN:DAYLIGHT
DTSTART:20300331T030000
RDATE:20301027T020000
TZOFFSETFROM:+0100
TZOFFSETTO:+0200
TZNAME:Europe/Vienna CEST
END:DAYLIGHT
BEGIN:DAYLIGHT
DTSTART:20310330T030000
RDATE:20311026T020000
TZOFFSETFROM:+0100
TZOFFSETTO:+0200
TZNAME:Europe/Vienna CEST
END:DAYLIGHT
BEGIN:DAYLIGHT
DTSTART:20320328T030000
RDATE:20321031T020000
TZOFFSETFROM:+0100
TZOFFSETTO:+0200
TZNAME:Europe/Vienna CEST
END:DAYLIGHT
BEGIN:DAYLIGHT
DTSTART:20330327T030000
RDATE:20331030T020000
TZOFFSETFROM:+0100
TZOFFSETTO:+0200
TZNAME:Europe/Vienna CEST
END:DAYLIGHT
BEGIN:DAYLIGHT
DTSTART:20340326T030000
RDATE:20341029T020000
TZOFFSETFROM:+0100
TZOFFSETTO:+0200
TZNAME:Europe/Vienna CEST
END:DAYLIGHT
END:VTIMEZONE
BEGIN:VEVENT
UID:
CATEGORIES:Kongress
SUMMARY:ACTIN ASSEMBLY FOR INTRACELLULAR FUNCTIONS 2025
LOCATION:Szeged, Hungary
DESCRIPTION;ENCODING=QUOTED-PRINTABLE:<p>	DEAR COLLEAGUES,<br />	<br />	Since the discovery of actin in relation 
 to muscle function more than 80 years ago by Albert Szent-Gyorgyi in Szeged
 , Hungary, actin research has become extremely diverse and now extends to p
 lants and prokaryotes, as well as biochemical, biophysical, molecular, and 
 cellular biology fields. The need for an international actin conference wit
 h comprehensive topics, where the latest results and research directions ar
 e presented, is critical for the community. Therefore, we decided to bring 
 together the best experts in actin biology from across the world to build r
 esearch synergies to tackle long-standing questions covering the enormous s
 pectrum of the field of actin biology.</p><p>	Hereby we kindly invite you t
 o participate in the ACTIN ASSEMBLY FOR INTRACELLULAR FUNCTIONS 2025 confer
 ence between May 21-24, 2025. The meeting will take place in the new confer
 ence centre of the HUN-REN Biological Research Centre (BRC) Szeged, Hungary
  (https://www.brc.hu/en), where the lecture halls, the poster and company e
 xhibition areas will all be located in one building, together with the rest
 aurant and social rooms. This venue is ideal for catching up with colleague
 s, discussing your research, building collaborations, and sparking new idea
 s.</p><p>	The 24 confirmed speakers, and the 12 additional short presentati
 ons, three poster sessions, as well as the social events, including the Win
 e Festival and Bridge Fair in Szeged, guarantee that AAIF2025 will be a sti
 mulating and enjoyable conference for all participants.</p><p>	SESSION TOPI
 CS</p><ul>	<li>		Actin protein dynamics</li>	<li>		Actin in mechanotransduc
 tion</li>	<li>		Actin in diseases</li>	<li>		Actin in intracellular traffic
 king</li>	<li>		Actin and phase separation</li>	<li>		Actin across evolutio
 n</li>	<li>		&nbsp;Actin and the genome</li></ul><p>	The conference website
 &nbsp; (<a href="https://aaif2025-szeged.hu" onclick="window.open(this.href
 , 'httpsaaif2025szegedhu', 'resizable=no,status=no,location=no,toolbar=no,m
 enubar=no,fullscreen=no,scrollbars=no,dependent=no'); return false;">https:
 //aaif2025-szeged.hu</a>) with further information will be launched in earl
 y January at the latest.<br />	<br />	Come and join us from May 21st to 24t
 h, 2025. We look forward to welcoming you in Szeged!</p><p>	Tina Tootle (Un
 iversity of Iowa, USA), Robert Grosse (University of Freiburg, Germany) Pet
 er Vilmos (HUN-REN BRC Szeged, Hungary)</p>
CONTACT:https://aaif2025-szeged.hu
DTSTAMP:20260425T011455Z
DTSTART;TZID=Europe/Vienna:20250521T080000
DTEND;TZID=Europe/Vienna:20250524T120000
SEQUENCE:1
TRANSP:OPAQUE
END:VEVENT
END:VCALENDAR