BEGIN:VCALENDAR
VERSION:2.0
PRODID:-//jEvents 2.0 for Joomla//EN
CALSCALE:GREGORIAN
METHOD:PUBLISH
BEGIN:VTIMEZONE
TZID:Europe/Vienna
BEGIN:STANDARD
DTSTART:20221030T020000
RDATE:20230326T030000
TZOFFSETFROM:+0200
TZOFFSETTO:+0100
TZNAME:Europe/Vienna CET
END:STANDARD
BEGIN:STANDARD
DTSTART:20231029T020000
RDATE:20240331T030000
TZOFFSETFROM:+0200
TZOFFSETTO:+0100
TZNAME:Europe/Vienna CET
END:STANDARD
BEGIN:STANDARD
DTSTART:20241027T020000
RDATE:20250330T030000
TZOFFSETFROM:+0200
TZOFFSETTO:+0100
TZNAME:Europe/Vienna CET
END:STANDARD
BEGIN:STANDARD
DTSTART:20251026T020000
RDATE:20260329T030000
TZOFFSETFROM:+0200
TZOFFSETTO:+0100
TZNAME:Europe/Vienna CET
END:STANDARD
BEGIN:STANDARD
DTSTART:20261025T020000
RDATE:20270328T030000
TZOFFSETFROM:+0200
TZOFFSETTO:+0100
TZNAME:Europe/Vienna CET
END:STANDARD
BEGIN:STANDARD
DTSTART:20271031T020000
RDATE:20280326T030000
TZOFFSETFROM:+0200
TZOFFSETTO:+0100
TZNAME:Europe/Vienna CET
END:STANDARD
BEGIN:STANDARD
DTSTART:20281029T020000
RDATE:20290325T030000
TZOFFSETFROM:+0200
TZOFFSETTO:+0100
TZNAME:Europe/Vienna CET
END:STANDARD
BEGIN:STANDARD
DTSTART:20291028T020000
RDATE:20300331T030000
TZOFFSETFROM:+0200
TZOFFSETTO:+0100
TZNAME:Europe/Vienna CET
END:STANDARD
BEGIN:STANDARD
DTSTART:20301027T020000
RDATE:20310330T030000
TZOFFSETFROM:+0200
TZOFFSETTO:+0100
TZNAME:Europe/Vienna CET
END:STANDARD
BEGIN:STANDARD
DTSTART:20311026T020000
RDATE:20320328T030000
TZOFFSETFROM:+0200
TZOFFSETTO:+0100
TZNAME:Europe/Vienna CET
END:STANDARD
BEGIN:STANDARD
DTSTART:20321031T020000
RDATE:20330327T030000
TZOFFSETFROM:+0200
TZOFFSETTO:+0100
TZNAME:Europe/Vienna CET
END:STANDARD
BEGIN:STANDARD
DTSTART:20331030T020000
RDATE:20340326T030000
TZOFFSETFROM:+0200
TZOFFSETTO:+0100
TZNAME:Europe/Vienna CET
END:STANDARD
BEGIN:STANDARD
DTSTART:20341029T020000
RDATE:20350325T030000
TZOFFSETFROM:+0200
TZOFFSETTO:+0100
TZNAME:Europe/Vienna CET
END:STANDARD
BEGIN:DAYLIGHT
DTSTART:20220731T080000
RDATE:20221030T020000
TZOFFSETFROM:+0100
TZOFFSETTO:+0200
TZNAME:Europe/Vienna CEST
END:DAYLIGHT
BEGIN:DAYLIGHT
DTSTART:20230326T030000
RDATE:20231029T020000
TZOFFSETFROM:+0100
TZOFFSETTO:+0200
TZNAME:Europe/Vienna CEST
END:DAYLIGHT
BEGIN:DAYLIGHT
DTSTART:20240331T030000
RDATE:20241027T020000
TZOFFSETFROM:+0100
TZOFFSETTO:+0200
TZNAME:Europe/Vienna CEST
END:DAYLIGHT
BEGIN:DAYLIGHT
DTSTART:20250330T030000
RDATE:20251026T020000
TZOFFSETFROM:+0100
TZOFFSETTO:+0200
TZNAME:Europe/Vienna CEST
END:DAYLIGHT
BEGIN:DAYLIGHT
DTSTART:20260329T030000
RDATE:20261025T020000
TZOFFSETFROM:+0100
TZOFFSETTO:+0200
TZNAME:Europe/Vienna CEST
END:DAYLIGHT
BEGIN:DAYLIGHT
DTSTART:20270328T030000
RDATE:20271031T020000
TZOFFSETFROM:+0100
TZOFFSETTO:+0200
TZNAME:Europe/Vienna CEST
END:DAYLIGHT
BEGIN:DAYLIGHT
DTSTART:20280326T030000
RDATE:20281029T020000
TZOFFSETFROM:+0100
TZOFFSETTO:+0200
TZNAME:Europe/Vienna CEST
END:DAYLIGHT
BEGIN:DAYLIGHT
DTSTART:20290325T030000
RDATE:20291028T020000
TZOFFSETFROM:+0100
TZOFFSETTO:+0200
TZNAME:Europe/Vienna CEST
END:DAYLIGHT
BEGIN:DAYLIGHT
DTSTART:20300331T030000
RDATE:20301027T020000
TZOFFSETFROM:+0100
TZOFFSETTO:+0200
TZNAME:Europe/Vienna CEST
END:DAYLIGHT
BEGIN:DAYLIGHT
DTSTART:20310330T030000
RDATE:20311026T020000
TZOFFSETFROM:+0100
TZOFFSETTO:+0200
TZNAME:Europe/Vienna CEST
END:DAYLIGHT
BEGIN:DAYLIGHT
DTSTART:20320328T030000
RDATE:20321031T020000
TZOFFSETFROM:+0100
TZOFFSETTO:+0200
TZNAME:Europe/Vienna CEST
END:DAYLIGHT
BEGIN:DAYLIGHT
DTSTART:20330327T030000
RDATE:20331030T020000
TZOFFSETFROM:+0100
TZOFFSETTO:+0200
TZNAME:Europe/Vienna CEST
END:DAYLIGHT
BEGIN:DAYLIGHT
DTSTART:20340326T030000
RDATE:20341029T020000
TZOFFSETFROM:+0100
TZOFFSETTO:+0200
TZNAME:Europe/Vienna CEST
END:DAYLIGHT
END:VTIMEZONE
BEGIN:VEVENT
UID:
CATEGORIES:Symposium
SUMMARY:4th Plant Microbiome Symposium
LOCATION:Quito - Ecuador
DESCRIPTION;ENCODING=QUOTED-PRINTABLE:<div class="col-md-4 summary-border">	<div class="field field--name-field-r
 egistration-end field--type-datetime field--label-above">		<span style="fon
 t-size:12px;"><span style="font-family:arial,helvetica,sans-serif;"><b styl
 e="font-style: inherit; font-variant-ligatures: inherit;          font-vari
 ant-caps: inherit; font-family: Calibri, sans-serif;          font-size: 11
 pt; text-align: justify;"><span class="x_x_x_ContentPasted5" lang="EN-GB" s
 tyle="color: black; border-width: 1pt; border-style: none; border-color: wi
 ndowtext; padding: 0cm;">The 4th Plant Microbiome Symposium 2023 registrati
 on is open!</span></b><span lang="EN-GB" style="color: black; text-align: j
 ustify;">&nbsp;</span></span></span>		<div class="field__item">			<p class=
 "x_x_x_MsoNormal" style="margin-top: 0px;                margin-bottom: 0px
 ;margin-top:0px; margin-bottom:0px;                font-family:Calibri,sans
 -serif; margin:0cm;                font-size:11pt; text-align:justify">				
 <span style="font-size:12px;"><span style="font-family:arial,helvetica,sans
 -serif;"><span lang="EN-GB">&nbsp;</span></span></span></p>			<p class="x_x
 _x_MsoNormal x_elementToProof" style="margin-top: 0px; margin-bottom:      
           0px;margin-top:0px; margin-bottom:0px;                font-family
 :Calibri,sans-serif; margin:0cm;                font-size:11pt; text-align:
 justify">				<span style="font-size:12px;"><span style="font-family:arial,h
 elvetica,sans-serif;"><span border:none="" class="x_x_x_ContentPasted5 x_Co
 ntentPasted0" lang="EN-GB" windowtext="">After successful editions in Sao P
 aulo, Amsterdam, and Dundee, and due to the great importance of the theme, 
 Universidad San Francisco de Quito (USFQ) is proud to host the 4th Plant Mi
 crobiome Symposium in Quito, Ecuador, from August 1st to August 4th, 2023.<
 /span></span></span></p>			<p class="x_x_x_MsoNormal x_elementToProof" styl
 e="margin-top: 0px; margin-bottom:                0px;margin-top:0px; margi
 n-bottom:0px;                font-family:Calibri,sans-serif; margin:0cm;   
              font-size:11pt; text-align:justify">				&nbsp;</p>			<p class=
 "x_x_x_MsoNormal x_elementToProof" style="margin-top: 0px; margin-bottom:  
               0px;margin-top:0px; margin-bottom:0px;                font-fa
 mily:Calibri,sans-serif; margin:0cm;                font-size:11pt; text-al
 ign:justify">				<span style="font-size:12px;"><span style="font-family:ari
 al,helvetica,sans-serif;"><span border:none="" class="x_x_x_ContentPasted5"
  lang="EN-GB" windowtext="">This Symposium would be next year&rsquo;s premi
 er opportunity to connect with plant-microbiome colleagues from all over th
 e world, and to participate in sessions with outstanding keynote speakers a
 nd offered presentations revolving around the latest advances in plant-micr
 obe interactions, plant-microbiome communication and assembly, microbiome-r
 elated plant physiology,&nbsp;and translational application.&nbsp;&nbsp;</s
 pan><span lang="EN-GB">&nbsp;</span></span></span></p>			<p class="x_x_x_Ms
 oNormal" style="margin-top: 0px;                margin-bottom: 0px;margin-t
 op:0px; margin-bottom:0px;                font-family:Calibri,sans-serif; m
 argin:0cm;                font-size:11pt; text-align:justify">				<span sty
 le="font-size:12px;"><span style="font-family:arial,helvetica,sans-serif;">
 <span border:none="" class="x_x_x_ContentPasted5" lang="EN-GB" windowtext="
 ">&nbsp;</span><span lang="EN-GB">&nbsp;</span></span></span></p>			<p clas
 s="x_x_x_MsoNormal" style="margin-top: 0px;                margin-bottom: 0
 px;margin-top:0px; margin-bottom:0px;                font-family:Calibri,sa
 ns-serif; margin:0cm;                font-size:11pt; text-align:justify">		
 		<span style="font-size:12px;"><span style="font-family:arial,helvetica,sa
 ns-serif;"><span border:none="" class="x_x_x_ContentPasted5" lang="EN-GB" w
 indowtext="">We welcome you to take advantage of preconference workshops, m
 ultiple networking events, poster fairs, and receptions in our outstanding 
 on-campus USFQ conference and exhibition facilities.&nbsp;</span><span lang
 ="EN-GB">&nbsp;</span></span></span></p>			<p class="x_x_x_MsoNormal" style
 ="margin-top: 0px;                margin-bottom: 0px;margin-top:0px; margin
 -bottom:0px;                font-family:Calibri,sans-serif; margin:0cm;    
             font-size:11pt; text-align:justify">				<span style="font-size:
 12px;"><span style="font-family:arial,helvetica,sans-serif;"><span border:n
 one="" class="x_x_x_ContentPasted5" lang="EN-GB" windowtext="">&nbsp;</span
 ><span lang="EN-GB">&nbsp;</span></span></span></p>			<p class="x_x_x_MsoNo
 rmal" style="margin-top: 0px;                margin-bottom: 0px;margin-top:
 0px; margin-bottom:0px;                font-family:Calibri,sans-serif; marg
 in:0cm;                font-size:11pt; text-align:justify">				<span style=
 "font-size:12px;"><span style="font-family:arial,helvetica,sans-serif;"><sp
 an border:none="" class="x_x_x_ContentPasted5" lang="EN-GB" windowtext="">J
 oin with your colleagues from around the world at what truly will be an exc
 iting and memorable Plant Microbiome Symposium.&nbsp;</span><span lang="EN-
 GB">&nbsp;</span></span></span></p>			<p class="x_x_x_MsoNormal" style="mar
 gin-top: 0px;                margin-bottom: 0px;margin-top:0px; margin-bott
 om:0px;                font-family:Calibri,sans-serif; margin:0cm;         
        font-size:11pt; text-align:justify">				<span style="font-size:12px;
 "><span style="font-family:arial,helvetica,sans-serif;"><span border:none="
 " class="x_x_x_ContentPasted5" lang="EN-GB" windowtext="">&nbsp;</span><spa
 n lang="EN-GB">&nbsp;</span></span></span></p>			<p class="x_x_x_MsoNormal 
 x_elementToProof" style="margin-top: 0px; margin-bottom:                0px
 ;margin-top:0px; margin-bottom:0px;                font-family:Calibri,sans
 -serif; margin:0cm;                font-size:11pt; text-align:justify">				
 <span style="font-size:12px;"><span style="font-family:arial,helvetica,sans
 -serif;"><span border:none="" class="x_x_x_ContentPasted5" lang="EN-GB" win
 dowtext="">For more information on how to register and how to send your abs
 tracts:&nbsp;</span><span lang="EN-GB">&nbsp;</span></span></span></p>			<u
 l>				<li class="x_x_x_MsoNormal" style="font-family: Calibri, sans-serif; 
 margin: 0cm; font-size: 11pt;">					<span style="font-size:12px;"><span sty
 le="font-family:arial,helvetica,sans-serif;"><span border:none="" class="x_
 x_x_ContentPasted5" lang="EN-GB" windowtext="">&nbsp;Visit the official web
 site:&nbsp;</span><span border:none="" windowtext=""><a class="x_x_x_Conten
 tPasted5" data-auth="NotApplicable" href="https://plantmicrobiome2023.usfq.
 edu.ec/" target="_blank"><span lang="EN-GB" style="color:blue">https://plan
 tmicrobiome2023.usfq.edu.ec/</span></a></span><span border:none="" class="x
 _x_x_ContentPasted5" lang="EN-GB" windowtext="">&nbsp;</span><span lang="EN
 -GB">&nbsp;</span></span></span></li>				<li class="x_x_x_MsoNormal" style=
 "font-family: Calibri, sans-serif; margin: 0cm; font-size: 11pt;">					<spa
 n style="font-size:12px;"><span style="font-family:arial,helvetica,sans-ser
 if;"><span border:none="" class="x_x_x_ContentPasted5" lang="EN-GB" windowt
 ext="">&nbsp;</span></span></span><span style="font-size:12px;"><span style
 ="font-family:arial,helvetica,sans-serif;"><span border:none="" class="x_x_
 x_ContentPasted5" lang="EN-GB" windowtext="">Contact the local organizing c
 ommittee:&nbsp;<span id="cloak9503">This email address is being protected f
 rom spambots. You need JavaScript enabled to view it.</span><script type='t
 ext/javascript'>
 //<!--
 document.getElementById('cloak9503').innerHTML = 
 '';
 var prefix = '&#109;a' + 'i&#108;' + '&#116;o';
 var path = 'hr' + 'ef
 ' + '=';
 var addy9503 = 'pl&#97;ntm&#105;cr&#111;b&#105;&#111;m&#101;2023'
  + '&#64;';
 addy9503 = addy9503 + '&#117;sfq' + '&#46;' + '&#101;d&#117;' 
 + '&#46;' + '&#101;c';
 var addy_text9503 = 'pl&#97;ntm&#105;cr&#111;b&#105
 ;&#111;m&#101;2023' + '&#64;' + '&#117;sfq' + '&#46;' + '&#101;d&#117;' + '
 &#46;' + '&#101;c';
 document.getElementById('cloak9503').innerHTML += '<a 
 class="moz-txt-link-abbreviated" ' + path + '\'' + prefix + ':' + addy9503 
 + '\'>'+addy_text9503+'<\/a>';
 //-->
 </script>&nbsp;</span></span></span>
 </li>				<li class="x_x_x_MsoNormal" style="font-family: Calibri, sans-seri
 f; margin: 0cm; font-size: 11pt;">					<span style="font-size:12px;"><span 
 style="font-family:arial,helvetica,sans-serif;"><span lang="EN-GB">&nbsp;</
 span></span></span><span style="font-size:12px;"><span style="font-family:a
 rial,helvetica,sans-serif;"><span border:none="" class="x_x_x_ContentPasted
 5" lang="EN-GB" windowtext="">Invitational Video:&nbsp;<a class="x_x_x_Cont
 entPasted5" data-auth="NotApplicable" href="https://www.youtube.com/watch?v
 =vNKhoE2HfRM&amp;t=10s" target="_blank"><span style="color:blue">https://ww
 w.youtube.com/watch?v=vNKhoE2HfRM&amp;t=10s</span></a></span><span lang="EN
 -GB">&nbsp;</span></span></span></li>			</ul>			<p class="x_x_x_MsoNormal" 
 style="font-family: Calibri, sans-serif; margin: 0cm; font-size: 11pt;">			
 	&nbsp;</p>			<ul>				<li class="x_x_x_MsoNormal" style="font-family: Calib
 ri, sans-serif; margin: 0cm; font-size: 11pt;">					<span style="font-size:
 12px;"><span style="font-family:arial,helvetica,sans-serif;"><span lang="EN
 -GB">&nbsp;</span></span></span><span style="font-size:12px;"><span style="
 font-family:arial,helvetica,sans-serif;"><span style="color: black;">Note t
 hat the due date to register with<i> Early Bird</i> discount is February 14
 th, 2023. </span></span></span></li>				<li class="x_x_x_MsoNormal x_x_elem
 entToProof                x_elementToProof elementToProof" style="margin: 0
 px 0cm; font-size: 11pt;">					<span style="font-size:12px;"><span style="f
 ont-family:arial,helvetica,sans-serif;"><span style="color: black;"><span c
 lass="x_x_ContentPasted1" style="margin: 0px; color: black; background-colo
 r: rgb(255, 255, 255);">&nbsp;Check out how to apply to the scholarships of
  the PhD Student Award program!</span></span></span></span></li>			</ul>			
 <div class="field__label" id="registration_starts">				<span style="font-fa
 mily:arial,helvetica,sans-serif;"><span style="font-size:14px;"><strong>Reg
 istration starts: November 14, 2022</strong></span></span></div>			<div cla
 ss="field__label">				&nbsp;</div>			<span style="font-family:arial,helveti
 ca,sans-serif;"><span style="font-size:14px;"><strong>Registration ends: Ma
 y 15, 2023</strong></span></span>			<time class="datetime" datetime="2023-0
 5-15T12:00:00Z">				&nbsp;</time>			<p>				&nbsp;</p>			<p>				&nbsp;</p>		
 	<p>				&nbsp;</p>		</div>	</div></div><p>	&nbsp;</p>
CONTACT:https://plantmicrobiome2023.usfq.edu.ec/
DTSTAMP:20260423T034904Z
DTSTART;TZID=Europe/Vienna:20230801T080000
DTEND;TZID=Europe/Vienna:20230804T180000
SEQUENCE:1
TRANSP:OPAQUE
END:VEVENT
END:VCALENDAR