BEGIN:VCALENDAR
VERSION:2.0
PRODID:-//jEvents 2.0 for Joomla//EN
CALSCALE:GREGORIAN
METHOD:PUBLISH
BEGIN:VTIMEZONE
TZID:Europe/Vienna
BEGIN:STANDARD
DTSTART:20201025T020000
RDATE:20210328T030000
TZOFFSETFROM:+0200
TZOFFSETTO:+0100
TZNAME:Europe/Vienna CET
END:STANDARD
BEGIN:STANDARD
DTSTART:20211031T020000
RDATE:20220327T030000
TZOFFSETFROM:+0200
TZOFFSETTO:+0100
TZNAME:Europe/Vienna CET
END:STANDARD
BEGIN:STANDARD
DTSTART:20221030T020000
RDATE:20230326T030000
TZOFFSETFROM:+0200
TZOFFSETTO:+0100
TZNAME:Europe/Vienna CET
END:STANDARD
BEGIN:STANDARD
DTSTART:20231029T020000
RDATE:20240331T030000
TZOFFSETFROM:+0200
TZOFFSETTO:+0100
TZNAME:Europe/Vienna CET
END:STANDARD
BEGIN:STANDARD
DTSTART:20241027T020000
RDATE:20250330T030000
TZOFFSETFROM:+0200
TZOFFSETTO:+0100
TZNAME:Europe/Vienna CET
END:STANDARD
BEGIN:STANDARD
DTSTART:20251026T020000
RDATE:20260329T030000
TZOFFSETFROM:+0200
TZOFFSETTO:+0100
TZNAME:Europe/Vienna CET
END:STANDARD
BEGIN:STANDARD
DTSTART:20261025T020000
RDATE:20270328T030000
TZOFFSETFROM:+0200
TZOFFSETTO:+0100
TZNAME:Europe/Vienna CET
END:STANDARD
BEGIN:STANDARD
DTSTART:20271031T020000
RDATE:20280326T030000
TZOFFSETFROM:+0200
TZOFFSETTO:+0100
TZNAME:Europe/Vienna CET
END:STANDARD
BEGIN:STANDARD
DTSTART:20281029T020000
RDATE:20290325T030000
TZOFFSETFROM:+0200
TZOFFSETTO:+0100
TZNAME:Europe/Vienna CET
END:STANDARD
BEGIN:STANDARD
DTSTART:20291028T020000
RDATE:20300331T030000
TZOFFSETFROM:+0200
TZOFFSETTO:+0100
TZNAME:Europe/Vienna CET
END:STANDARD
BEGIN:STANDARD
DTSTART:20301027T020000
RDATE:20310330T030000
TZOFFSETFROM:+0200
TZOFFSETTO:+0100
TZNAME:Europe/Vienna CET
END:STANDARD
BEGIN:STANDARD
DTSTART:20311026T020000
RDATE:20320328T030000
TZOFFSETFROM:+0200
TZOFFSETTO:+0100
TZNAME:Europe/Vienna CET
END:STANDARD
BEGIN:STANDARD
DTSTART:20321031T020000
RDATE:20330327T030000
TZOFFSETFROM:+0200
TZOFFSETTO:+0100
TZNAME:Europe/Vienna CET
END:STANDARD
BEGIN:STANDARD
DTSTART:20331030T020000
RDATE:20340326T030000
TZOFFSETFROM:+0200
TZOFFSETTO:+0100
TZNAME:Europe/Vienna CET
END:STANDARD
BEGIN:STANDARD
DTSTART:20341029T020000
RDATE:20350325T030000
TZOFFSETFROM:+0200
TZOFFSETTO:+0100
TZNAME:Europe/Vienna CET
END:STANDARD
BEGIN:DAYLIGHT
DTSTART:20200619T090000
RDATE:20201025T020000
TZOFFSETFROM:+0100
TZOFFSETTO:+0200
TZNAME:Europe/Vienna CEST
END:DAYLIGHT
BEGIN:DAYLIGHT
DTSTART:20210328T030000
RDATE:20211031T020000
TZOFFSETFROM:+0100
TZOFFSETTO:+0200
TZNAME:Europe/Vienna CEST
END:DAYLIGHT
BEGIN:DAYLIGHT
DTSTART:20220327T030000
RDATE:20221030T020000
TZOFFSETFROM:+0100
TZOFFSETTO:+0200
TZNAME:Europe/Vienna CEST
END:DAYLIGHT
BEGIN:DAYLIGHT
DTSTART:20230326T030000
RDATE:20231029T020000
TZOFFSETFROM:+0100
TZOFFSETTO:+0200
TZNAME:Europe/Vienna CEST
END:DAYLIGHT
BEGIN:DAYLIGHT
DTSTART:20240331T030000
RDATE:20241027T020000
TZOFFSETFROM:+0100
TZOFFSETTO:+0200
TZNAME:Europe/Vienna CEST
END:DAYLIGHT
BEGIN:DAYLIGHT
DTSTART:20250330T030000
RDATE:20251026T020000
TZOFFSETFROM:+0100
TZOFFSETTO:+0200
TZNAME:Europe/Vienna CEST
END:DAYLIGHT
BEGIN:DAYLIGHT
DTSTART:20260329T030000
RDATE:20261025T020000
TZOFFSETFROM:+0100
TZOFFSETTO:+0200
TZNAME:Europe/Vienna CEST
END:DAYLIGHT
BEGIN:DAYLIGHT
DTSTART:20270328T030000
RDATE:20271031T020000
TZOFFSETFROM:+0100
TZOFFSETTO:+0200
TZNAME:Europe/Vienna CEST
END:DAYLIGHT
BEGIN:DAYLIGHT
DTSTART:20280326T030000
RDATE:20281029T020000
TZOFFSETFROM:+0100
TZOFFSETTO:+0200
TZNAME:Europe/Vienna CEST
END:DAYLIGHT
BEGIN:DAYLIGHT
DTSTART:20290325T030000
RDATE:20291028T020000
TZOFFSETFROM:+0100
TZOFFSETTO:+0200
TZNAME:Europe/Vienna CEST
END:DAYLIGHT
BEGIN:DAYLIGHT
DTSTART:20300331T030000
RDATE:20301027T020000
TZOFFSETFROM:+0100
TZOFFSETTO:+0200
TZNAME:Europe/Vienna CEST
END:DAYLIGHT
BEGIN:DAYLIGHT
DTSTART:20310330T030000
RDATE:20311026T020000
TZOFFSETFROM:+0100
TZOFFSETTO:+0200
TZNAME:Europe/Vienna CEST
END:DAYLIGHT
BEGIN:DAYLIGHT
DTSTART:20320328T030000
RDATE:20321031T020000
TZOFFSETFROM:+0100
TZOFFSETTO:+0200
TZNAME:Europe/Vienna CEST
END:DAYLIGHT
BEGIN:DAYLIGHT
DTSTART:20330327T030000
RDATE:20331030T020000
TZOFFSETFROM:+0100
TZOFFSETTO:+0200
TZNAME:Europe/Vienna CEST
END:DAYLIGHT
BEGIN:DAYLIGHT
DTSTART:20340326T030000
RDATE:20341029T020000
TZOFFSETFROM:+0100
TZOFFSETTO:+0200
TZNAME:Europe/Vienna CEST
END:DAYLIGHT
END:VTIMEZONE
BEGIN:VEVENT
UID:
CATEGORIES:Kongress
SUMMARY:World Microbe Forum
LOCATION:Virtual Meeting
DESCRIPTION;ENCODING=QUOTED-PRINTABLE:<p>	Recognizing that microbial sciences, just like microbes, know no border
 s, the&nbsp;<a href="https://asm.org/" target="blank">American Society of M
 icrobiology</a> (ASM) and the <a href="https://fems-microbiology.org/" targ
 et="blank">Federation of European Microbiological Societies</a> (FEMS)&nbsp
 ;have come together to launch a new initiative -- the World&nbsp;Microbe&nb
 sp;Forum, taking place online from 20-24 June 2021<strong>.&nbsp;&nbsp;</st
 rong></p><p>	ASM and FEMS will bring together two of the biggest meetings i
 n the microbial sciences, ASM Microbe 2021 and FEMS2021, under one digital 
 platform to further science and help answer some of the most important ques
 tions impacting humankind today.&nbsp; Additional scientific societies, inc
 luding the <a href="https://asv.org/" target="_blank">American Society for 
 Virology</a> (ASV) and the <a href="https://aslm.org/" target="_blank">Afri
 can Society for Laboratory Medicine</a> will be key partners in this event.
 </p><p>	This one-of-a-kind meeting will:&nbsp;&nbsp;</p><ul>	<li>		<strong>
 Unite the microbial sciences community worldwide to share cutting-edge scie
 nce</strong>. This meeting will bring active researchers, industry professi
 onals, undergraduate, postgraduate students, educators, and leaders in a di
 gital forum on a global stage, like never before. This is an opportunity to
  showcase how microbial sciences are essential to the health and wellbeing 
 of humankind. In addition, satellite events and sessions will extend the co
 nversation to policy makers and members of the public.</li>	<li>		<strong>L
 ive-stream close to your time zone</strong>. Because of programming happeni
 ng across the globe, attendees can access hundreds of sessions and activiti
 es close to their time zone, with single registration. The cutting-edge sci
 entific program will increase the microbial sciences footprint significantl
 y. In addition, recorded sessions which will be available after the meeting
 , allowing attendees to catch up or review content they missed.&nbsp;&nbsp;
 </li>	<li>		<strong>Lower barriers of entry that level the playing field.</
 strong> The virtual format, including both live and recorded access to even
 ts and sessions, overrides the constraints of time and space typical of phy
 sical meetings. The virtual event allows easier access, supporting equity a
 nd inclusion.&nbsp;</li>	<li>		<strong>Provide more content in your researc
 h area and related fields</strong>. With fewer constraints of time and spac
 e, it will be possible to have more programming in specific areas of microb
 iology, increasing the opportunity for everyone to find rich content in the
 ir sub-field. This also allows more high-profile speakers, more opportuniti
 es for trainees to present, and more joint sessions covering new and emergi
 ng topics.&nbsp; &nbsp;</li>	<li>		<strong>Allow for meaningful connections
  with peers</strong>. The versatile and innovative digital platform will al
 low for informal digital breakout rooms and casual interactions among parti
 cipants.</li></ul><p>	From new infectious pathogens like SARS-CoV-2, to ant
 imicrobial resistance, the role of microbes in climate change, agriculture 
 and food microbiology, to synthetic and applied microbiology - internationa
 l experts will gather in this one-of-a-kind, special event to examine, disc
 uss and envision solutions that science can offer to solve some of the grav
 est concerns confronting us today. This conference offers attendees unparal
 leled access to the latest innovative research across global perspectives.&
 nbsp; The conference organizers are also excited to offer an advocacy and p
 olicy platform to communicate the relevance of microbial sciences to decisi
 on makers and the general public.&nbsp;</p><p>	Additional details and infor
 mation regarding abstract submission, registration and more will be availab
 le in early January 2021.</p><p>	<strong>All session video-recordings will 
 be available live and on-demand so they can be viewed at your convenience f
 rom any place at any time.</strong></p>
CONTACT:www.worldmicrobeforum.org
DTSTAMP:20260422T001658Z
DTSTART;TZID=Europe/Vienna:20210620T090000
DTEND;TZID=Europe/Vienna:20210624T180000
SEQUENCE:1
TRANSP:OPAQUE
END:VEVENT
END:VCALENDAR